Back to Multiple platform build/check report for BioC 3.14
AB[C]DEFGHIJKLMNOPQRSTUVWXYZ

This page was generated on 2021-10-23 14:06:22 -0400 (Sat, 23 Oct 2021).

INSTALL results for consensusDE on riesling1

To the developers/maintainers of the consensusDE package:
- Please allow up to 24 hours (and sometimes 48 hours) for your latest push to git@git.bioconductor.org:packages/consensusDE.git to
reflect on this report. See How and When does the builder pull? When will my changes propagate? here for more information.
- Make sure to use the following settings in order to reproduce any error or warning you see on this page.

raw results

Package 387/2083HostnameOS / ArchINSTALLBUILDCHECKBUILD BIN
consensusDE 1.11.0  (landing page)
Ashley J. Waardenberg
Snapshot Date: 2021-10-22 14:50:11 -0400 (Fri, 22 Oct 2021)
git_url: https://git.bioconductor.org/packages/consensusDE
git_branch: master
git_last_commit: 9a3e586
git_last_commit_date: 2021-05-19 12:39:09 -0400 (Wed, 19 May 2021)
nebbiolo2Linux (Ubuntu 20.04.2 LTS) / x86_64  OK    OK    OK  UNNEEDED, same version is already published
riesling1Windows Server 2019 Standard / x64  OK    OK    OK    OK  UNNEEDED, same version is already published
merida1macOS 10.14.6 Mojave / x86_64  OK    OK    OK    OK  UNNEEDED, same version is already published

Summary

Package: consensusDE
Version: 1.11.0
Command: C:\cygwin\bin\curl.exe -O http://155.52.207.166/BBS/3.14/bioc/src/contrib/consensusDE_1.11.0.tar.gz && rm -rf consensusDE.buildbin-libdir && mkdir consensusDE.buildbin-libdir && D:\biocbuild\bbs-3.14-bioc\R\bin\R.exe CMD INSTALL --merge-multiarch --build --library=consensusDE.buildbin-libdir consensusDE_1.11.0.tar.gz && D:\biocbuild\bbs-3.14-bioc\R\bin\R.exe CMD INSTALL consensusDE_1.11.0.zip && rm consensusDE_1.11.0.tar.gz consensusDE_1.11.0.zip
StartedAt: 2021-10-22 18:53:37 -0400 (Fri, 22 Oct 2021)
EndedAt: 2021-10-22 18:56:32 -0400 (Fri, 22 Oct 2021)
EllapsedTime: 175.2 seconds
RetCode: 0
Status:   OK  

Command output

##############################################################################
##############################################################################
###
### Running command:
###
###   C:\cygwin\bin\curl.exe -O http://155.52.207.166/BBS/3.14/bioc/src/contrib/consensusDE_1.11.0.tar.gz && rm -rf consensusDE.buildbin-libdir && mkdir consensusDE.buildbin-libdir && D:\biocbuild\bbs-3.14-bioc\R\bin\R.exe CMD INSTALL --merge-multiarch --build --library=consensusDE.buildbin-libdir consensusDE_1.11.0.tar.gz && D:\biocbuild\bbs-3.14-bioc\R\bin\R.exe CMD INSTALL consensusDE_1.11.0.zip && rm consensusDE_1.11.0.tar.gz consensusDE_1.11.0.zip
###
##############################################################################
##############################################################################


  % Total    % Received % Xferd  Average Speed   Time    Time     Time  Current
                                 Dload  Upload   Total   Spent    Left  Speed

  0     0    0     0    0     0      0      0 --:--:-- --:--:-- --:--:--     0
100 36484  100 36484    0     0   309k      0 --:--:-- --:--:-- --:--:--  309k

install for i386

* installing *source* package 'consensusDE' ...
** using staged installation
** R
** byte-compile and prepare package for lazy loading
** help
*** installing help indices
  converting help for package 'consensusDE'
    finding HTML links ... done
    buildSummarized                         html  
    diag_plots                              html  
    multi_de_pairs                          html  
** building package indices
** installing vignettes
** testing if installed package can be loaded from temporary location
** testing if installed package can be loaded from final location
** testing if installed package keeps a record of temporary installation path

install for x64

* installing *source* package 'consensusDE' ...
** testing if installed package can be loaded
* MD5 sums
packaged installation of 'consensusDE' as consensusDE_1.11.0.zip
* DONE (consensusDE)
* installing to library 'D:/biocbuild/bbs-3.14-bioc/R/library'
package 'consensusDE' successfully unpacked and MD5 sums checked