Name | Last modified | Size | Description | |
---|---|---|---|---|
Parent Directory | - | |||
buildsrc-out.txt | 29-Mar-2024 00:36 | 862 | ||
buildsrc-summary.dcf | 29-Mar-2024 00:36 | 429 | ||
checksrc-out.txt | 29-Mar-2024 00:36 | 3.4K | ||
checksrc-summary.dcf | 29-Mar-2024 00:36 | 430 | ||
install-out.txt | 29-Mar-2024 00:36 | 956 | ||
install-summary.dcf | 29-Mar-2024 00:36 | 267 | ||