Index of /checkResults/devel/bioc-LATEST/consensusDE/raw-results

[ICO]NameLast modifiedSizeDescription

[DIR]Parent Directory  -  
[   ]info.dcf05-Dec-2021 02:32 285  
[DIR]nebbiolo1/05-Dec-2021 02:32 -