Back to Multiple platform build/check report for BioC 3.14
AB[C]DEFGHIJKLMNOPQRSTUVWXYZ

This page was generated on 2021-10-23 14:05:56 -0400 (Sat, 23 Oct 2021).

CHECK results for conclus on nebbiolo2

To the developers/maintainers of the conclus package:
- Please allow up to 24 hours (and sometimes 48 hours) for your latest push to git@git.bioconductor.org:packages/conclus.git to
reflect on this report. See How and When does the builder pull? When will my changes propagate? here for more information.
- Make sure to use the following settings in order to reproduce any error or warning you see on this page.

raw results

Package 382/2083HostnameOS / ArchINSTALLBUILDCHECKBUILD BIN
conclus 1.1.002  (landing page)
Ilyess Rachedi
Snapshot Date: 2021-10-22 14:50:11 -0400 (Fri, 22 Oct 2021)
git_url: https://git.bioconductor.org/packages/conclus
git_branch: master
git_last_commit: 9f01658
git_last_commit_date: 2021-08-31 07:26:43 -0400 (Tue, 31 Aug 2021)
nebbiolo2Linux (Ubuntu 20.04.2 LTS) / x86_64  OK    OK    OK  UNNEEDED, same version is already published
riesling1Windows Server 2019 Standard / x64  OK    OK    OK    OK  UNNEEDED, same version is already published
merida1macOS 10.14.6 Mojave / x86_64  OK    OK    OK    OK  UNNEEDED, same version is already published

Summary

Package: conclus
Version: 1.1.002
Command: /home/biocbuild/bbs-3.14-bioc/R/bin/R CMD check --install=check:conclus.install-out.txt --library=/home/biocbuild/bbs-3.14-bioc/R/library --no-vignettes --timings conclus_1.1.002.tar.gz
StartedAt: 2021-10-22 19:36:21 -0400 (Fri, 22 Oct 2021)
EndedAt: 2021-10-22 19:48:21 -0400 (Fri, 22 Oct 2021)
EllapsedTime: 719.8 seconds
RetCode: 0
Status:   OK  
CheckDir: conclus.Rcheck
Warnings: 0

Command output

##############################################################################
##############################################################################
###
### Running command:
###
###   /home/biocbuild/bbs-3.14-bioc/R/bin/R CMD check --install=check:conclus.install-out.txt --library=/home/biocbuild/bbs-3.14-bioc/R/library --no-vignettes --timings conclus_1.1.002.tar.gz
###
##############################################################################
##############################################################################


* using log directory ‘/home/biocbuild/bbs-3.14-bioc/meat/conclus.Rcheck’
* using R version 4.1.1 (2021-08-10)
* using platform: x86_64-pc-linux-gnu (64-bit)
* using session charset: UTF-8
* using option ‘--no-vignettes’
* checking for file ‘conclus/DESCRIPTION’ ... OK
* this is package ‘conclus’ version ‘1.1.002’
* package encoding: UTF-8
* checking package namespace information ... OK
* checking package dependencies ... OK
* checking if this is a source package ... OK
* checking if there is a namespace ... OK
* checking for hidden files and directories ... OK
* checking for portable file names ... OK
* checking for sufficient/correct file permissions ... OK
* checking whether package ‘conclus’ can be installed ... OK
* checking installed package size ... OK
* checking package directory ... OK
* checking ‘build’ directory ... OK
* checking DESCRIPTION meta-information ... OK
* checking top-level files ... OK
* checking for left-over files ... OK
* checking index information ... OK
* checking package subdirectories ... OK
* checking R files for non-ASCII characters ... OK
* checking R files for syntax errors ... OK
* checking whether the package can be loaded ... OK
* checking whether the package can be loaded with stated dependencies ... OK
* checking whether the package can be unloaded cleanly ... OK
* checking whether the namespace can be loaded with stated dependencies ... OK
* checking whether the namespace can be unloaded cleanly ... OK
* checking dependencies in R code ... OK
* checking S3 generic/method consistency ... OK
* checking replacement functions ... OK
* checking foreign function calls ... OK
* checking R code for possible problems ... NOTE
.retrieveClustersNumberK: no visible global function definition for
  ‘median’
Undefined global functions or variables:
  median
Consider adding
  importFrom("stats", "median")
to your NAMESPACE file.
* checking Rd files ... OK
* checking Rd metadata ... OK
* checking Rd cross-references ... OK
* checking for missing documentation entries ... OK
* checking for code/documentation mismatches ... OK
* checking Rd \usage sections ... OK
* checking Rd contents ... OK
* checking for unstated dependencies in examples ... OK
* checking files in ‘vignettes’ ... OK
* checking examples ... OK
Examples with CPU (user + system) or elapsed time > 5s
                                   user system elapsed
retrieveFromGEO                  12.397  0.176  12.576
runCONCLUS                       11.209  0.256 122.035
addClustering-scRNAseq            5.508  1.172  12.349
normaliseCountMatrix-scRNAseq     4.638  0.121  16.931
retrieveGenesInfo-scRNAseq        3.789  0.019  21.600
testClustering-scRNAseq           0.998  0.040  17.300
runDBSCAN-scRNAseq                0.440  0.006  12.786
clusterCellsInternal-scRNAseq     0.292  0.016  14.747
generateTSNECoordinates-scRNAseq  0.216  0.036  20.177
* checking for unstated dependencies in ‘tests’ ... OK
* checking tests ...
  Running ‘test-all.R’
 OK
* checking for unstated dependencies in vignettes ... OK
* checking package vignettes in ‘inst/doc’ ... OK
* checking running R code from vignettes ... SKIPPED
* checking re-building of vignette outputs ... SKIPPED
* checking PDF version of manual ... OK
* DONE

Status: 1 NOTE
See
  ‘/home/biocbuild/bbs-3.14-bioc/meat/conclus.Rcheck/00check.log’
for details.



Installation output

conclus.Rcheck/00install.out

##############################################################################
##############################################################################
###
### Running command:
###
###   /home/biocbuild/bbs-3.14-bioc/R/bin/R CMD INSTALL conclus
###
##############################################################################
##############################################################################


* installing to library ‘/home/biocbuild/bbs-3.14-bioc/R/library’
* installing *source* package ‘conclus’ ...
** using staged installation
** R
** inst
** byte-compile and prepare package for lazy loading
** help
*** installing help indices
** building package indices
** installing vignettes
** testing if installed package can be loaded from temporary location
** testing if installed package can be loaded from final location
** testing if installed package keeps a record of temporary installation path
* DONE (conclus)

Tests output

conclus.Rcheck/tests/test-all.Rout


R version 4.1.1 (2021-08-10) -- "Kick Things"
Copyright (C) 2021 The R Foundation for Statistical Computing
Platform: x86_64-pc-linux-gnu (64-bit)

R is free software and comes with ABSOLUTELY NO WARRANTY.
You are welcome to redistribute it under certain conditions.
Type 'license()' or 'licence()' for distribution details.

R is a collaborative project with many contributors.
Type 'contributors()' for more information and
'citation()' on how to cite R or R packages in publications.

Type 'demo()' for some demos, 'help()' for on-line help, or
'help.start()' for an HTML browser interface to help.
Type 'q()' to quit R.

> library("testthat")
> library("conclus")
Setting options('download.file.method.GEOquery'='auto')
Setting options('GEOquery.inmemory.gpl'=FALSE)

> test_check("conclus")
   Min. 1st Qu.  Median    Mean 3rd Qu.    Max. 
      1       1       1       1       1       1 
The following matrix shows how many times a number of clusters 'k' has been found among the dbscan solutions :
                        1  2 3 4
Number of clusters k :  1  4 2 3
Count :                58 12 8 6

Statistics about number of clusters 'k' among dbscan solutions:
   Min. 1st Qu.  Median    Mean 3rd Qu.    Max. 
  1.000   1.000   1.000   1.667   2.000   4.000 

Suggested clusters number to use in clusterCellsInternal() : clusterNumber=1.Error in curl::curl_fetch_memory(url, handle = handle) : 
  SSL certificate problem: unable to get local issuer certificate
Error in curl::curl_fetch_memory(url, handle = handle) : 
  SSL certificate problem: unable to get local issuer certificate
[ FAIL 0 | WARN 0 | SKIP 0 | PASS 279 ]
> 
> proc.time()
   user  system elapsed 
 32.135   2.577 212.442 

Example timings

conclus.Rcheck/conclus-Ex.timings

nameusersystemelapsed
addClustering-scRNAseq 5.508 1.17212.349
calculateClustersSimilarity-scRNAseq0.0450.0000.044
clusterCellsInternal-scRNAseq 0.292 0.01614.747
conclusCacheClear000
constructors0.0220.0000.023
exportResults-scRNAseq0.1810.0320.217
generateTSNECoordinates-scRNAseq 0.216 0.03620.177
getters0.0130.0000.014
loadDataOrMatrix0.0140.0000.014
normaliseCountMatrix-scRNAseq 4.638 0.12116.931
plotCellHeatmap0.1550.0000.156
plotCellSimilarity-scRNAseq0.1250.0000.126
plotClusteredTSNE-scRNAseq0.6060.0000.607
plotClustersSimilarity0.0910.0000.090
plotGeneExpression-scRNAseq0.2910.0000.291
rankGenes-scRNAseq0.2670.0000.268
retrieveFromGEO12.397 0.17612.576
retrieveGenesInfo-scRNAseq 3.789 0.01921.600
retrieveTableClustersCells-scRNAseq0.0180.0000.018
retrieveTopClustersMarkers-scRNAseq0.0220.0000.022
runCONCLUS 11.209 0.256122.035
runDBSCAN-scRNAseq 0.440 0.00612.786
setters0.0150.0000.015
testClustering-scRNAseq 0.998 0.04017.300