Back to Multiple platform build/check report for BioC 3.14
AB[C]DEFGHIJKLMNOPQRSTUVWXYZ

This page was generated on 2021-10-23 14:06:55 -0400 (Sat, 23 Oct 2021).

BUILD results for conclus on merida1

To the developers/maintainers of the conclus package:
- Please allow up to 24 hours (and sometimes 48 hours) for your latest push to git@git.bioconductor.org:packages/conclus.git to
reflect on this report. See How and When does the builder pull? When will my changes propagate? here for more information.
- Make sure to use the following settings in order to reproduce any error or warning you see on this page.

raw results

Package 382/2083HostnameOS / ArchINSTALLBUILDCHECKBUILD BIN
conclus 1.1.002  (landing page)
Ilyess Rachedi
Snapshot Date: 2021-10-22 14:50:11 -0400 (Fri, 22 Oct 2021)
git_url: https://git.bioconductor.org/packages/conclus
git_branch: master
git_last_commit: 9f01658
git_last_commit_date: 2021-08-31 07:26:43 -0400 (Tue, 31 Aug 2021)
nebbiolo2Linux (Ubuntu 20.04.2 LTS) / x86_64  OK    OK    OK  UNNEEDED, same version is already published
riesling1Windows Server 2019 Standard / x64  OK    OK    OK    OK  UNNEEDED, same version is already published
merida1macOS 10.14.6 Mojave / x86_64  OK    OK    OK    OK  UNNEEDED, same version is already published

Summary

Package: conclus
Version: 1.1.002
Command: /Library/Frameworks/R.framework/Resources/bin/R CMD build --keep-empty-dirs --no-resave-data conclus
StartedAt: 2021-10-22 19:20:23 -0400 (Fri, 22 Oct 2021)
EndedAt: 2021-10-22 19:31:41 -0400 (Fri, 22 Oct 2021)
EllapsedTime: 677.8 seconds
RetCode: 0
Status:   OK  
PackageFile: conclus_1.1.002.tar.gz
PackageFileSize: 2.612 MiB

Command output

##############################################################################
##############################################################################
###
### Running command:
###
###   /Library/Frameworks/R.framework/Resources/bin/R CMD build --keep-empty-dirs --no-resave-data conclus
###
##############################################################################
##############################################################################


* checking for file ‘conclus/DESCRIPTION’ ... OK
* preparing ‘conclus’:
* checking DESCRIPTION meta-information ... OK
* installing the package to build vignettes
* creating vignettes ... OK
* checking for LF line-endings in source and make files and shell scripts
* checking for empty or unneeded directories
* building ‘conclus_1.1.002.tar.gz’