Back to Multiple platform build/check report for BioC 3.15
AB[C]DEFGHIJKLMNOPQRSTUVWXYZ

This page was generated on 2022-01-26 11:07:23 -0500 (Wed, 26 Jan 2022).

HostnameOSArch (*)R versionInstalled pkgs
nebbiolo1Linux (Ubuntu 20.04.4 LTS)x86_64R Under development (unstable) (2022-01-05 r81451) -- "Unsuffered Consequences" 4164
riesling1Windows Server 2019 Standardx64R Under development (unstable) (2021-11-21 r81221) -- "Unsuffered Consequences" 4059
palomino3Windows Server 2022 Datacenterx64R Under development (unstable) (2021-12-21 r81400 ucrt) -- "Unsuffered Consequences" 4001
merida1macOS 10.14.6 Mojavex86_64R Under development (unstable) (2022-01-05 r81451) -- "Unsuffered Consequences" 4118
Click on any hostname to see more info about the system (e.g. compilers)      (*) as reported by 'uname -p', except on Windows and Mac OS X

INSTALL results for compartmap on riesling1


To the developers/maintainers of the compartmap package:
- Please allow up to 24 hours (and sometimes 48 hours) for your latest push to git@git.bioconductor.org:packages/compartmap.git to
reflect on this report. See How and When does the builder pull? When will my changes propagate? here for more information.
- Make sure to use the following settings in order to reproduce any error or warning you see on this page.

raw results

Package 376/2075HostnameOS / ArchINSTALLBUILDCHECKBUILD BIN
compartmap 1.13.0  (landing page)
Benjamin Johnson
Snapshot Date: 2022-01-25 13:55:17 -0500 (Tue, 25 Jan 2022)
git_url: https://git.bioconductor.org/packages/compartmap
git_branch: master
git_last_commit: 087d134
git_last_commit_date: 2021-10-26 12:48:10 -0500 (Tue, 26 Oct 2021)
nebbiolo1Linux (Ubuntu 20.04.4 LTS) / x86_64  OK    OK    OK  UNNEEDED, same version is already published
riesling1Windows Server 2019 Standard / x64  OK    OK    OK    OK  
palomino3Windows Server 2022 Datacenter / x64  OK    OK    OK    OK  NO, package depends on 'SummarizedExperiment' which is not available
merida1macOS 10.14.6 Mojave / x86_64  OK    OK    OK    OK  UNNEEDED, same version is already published

Summary

Package: compartmap
Version: 1.13.0
Command: D:\biocbuild\bbs-3.15-bioc\R\bin\R.exe CMD INSTALL compartmap
StartedAt: 2022-01-25 16:04:26 -0500 (Tue, 25 Jan 2022)
EndedAt: 2022-01-25 16:05:40 -0500 (Tue, 25 Jan 2022)
EllapsedTime: 73.6 seconds
RetCode: 0
Status:   OK  

Command output

##############################################################################
##############################################################################
###
### Running command:
###
###   D:\biocbuild\bbs-3.15-bioc\R\bin\R.exe CMD INSTALL compartmap
###
##############################################################################
##############################################################################


* installing to library 'D:/biocbuild/bbs-3.15-bioc/R/library'
* installing *source* package 'compartmap' ...
** using staged installation
** R
** data
** inst
** byte-compile and prepare package for lazy loading
** help
*** installing help indices
  converting help for package 'compartmap'
    finding HTML links ... done
    agrestiCoullCI                          html  
    bootstrapCompartments                   html  
    checkAssayType                          html  
    condenseRE                              html  
    condenseSE                              html  
    dot-n_approx                            html  
    dot-p_approx                            html  
    dot-z                                   html  
    estRMT                                  html  
    extractOpenClosed                       html  
    fexpit                                  html  
    filterCompartments                      html  
    fisherZ                                 html  
    fixCompartments                         html  
    flogit                                  html  
    getABSignal                             html  
    getATACABsignal                         html  
    getAssayNames                           html  
    getBinMatrix                            html  
    getChrs                                 html  
    getCorMatrix                            html  
    getDenoisedMatrix                       html  
    getDomainInflections                    html  
    getGlobalMeans                          html  
    getMatrixBlocks                         html  
    getSVD                                  html  
    getSeqLengths                           html  
    getShrinkageTargets                     html  
    hdf5TFIDF                               html  
    hg19.gr                                 html  
    hg38.gr                                 html  
    ifisherZ                                html  
    importBigWig                            html  
    k562_scatac_chr14                       html  
    k562_scrna_chr14                        html  
    k562_scrna_se_chr14                     html  
    meanSmoother                            html  
    mm10.gr                                 html  
    mm9.gr                                  html  
    plotAB                                  html  
    plotCorMatrix                           html  
    precomputeBootstrapMeans                html  
    removeEmptyBoots                        html  
    scCompartments                          html  
    shrinkBins                              html  
    sparseToDenseMatrix                     html  
    ss3_umi_sce                             html  
    summarizeBootstraps                     html  
    transformTFIDF                          html  
*** copying figures
** building package indices
** installing vignettes
** testing if installed package can be loaded from temporary location
** testing if installed package can be loaded from final location
** testing if installed package keeps a record of temporary installation path
* DONE (compartmap)
Making 'packages.html' ...Warning in packageDescription(i, lib.loc = lib, fields = "Title", encoding = "UTF-8") :
  DESCRIPTION file of package 'RTN' is missing or broken
 done