Back to Multiple platform build/check report for BioC 3.15
AB[C]DEFGHIJKLMNOPQRSTUVWXYZ

This page was generated on 2022-01-26 11:05:50 -0500 (Wed, 26 Jan 2022).

HostnameOSArch (*)R versionInstalled pkgs
nebbiolo1Linux (Ubuntu 20.04.4 LTS)x86_64R Under development (unstable) (2022-01-05 r81451) -- "Unsuffered Consequences" 4164
riesling1Windows Server 2019 Standardx64R Under development (unstable) (2021-11-21 r81221) -- "Unsuffered Consequences" 4059
palomino3Windows Server 2022 Datacenterx64R Under development (unstable) (2021-12-21 r81400 ucrt) -- "Unsuffered Consequences" 4001
merida1macOS 10.14.6 Mojavex86_64R Under development (unstable) (2022-01-05 r81451) -- "Unsuffered Consequences" 4118
Click on any hostname to see more info about the system (e.g. compilers)      (*) as reported by 'uname -p', except on Windows and Mac OS X

CHECK results for compartmap on nebbiolo1


To the developers/maintainers of the compartmap package:
- Please allow up to 24 hours (and sometimes 48 hours) for your latest push to git@git.bioconductor.org:packages/compartmap.git to
reflect on this report. See How and When does the builder pull? When will my changes propagate? here for more information.
- Make sure to use the following settings in order to reproduce any error or warning you see on this page.

raw results

Package 376/2075HostnameOS / ArchINSTALLBUILDCHECKBUILD BIN
compartmap 1.13.0  (landing page)
Benjamin Johnson
Snapshot Date: 2022-01-25 13:55:17 -0500 (Tue, 25 Jan 2022)
git_url: https://git.bioconductor.org/packages/compartmap
git_branch: master
git_last_commit: 087d134
git_last_commit_date: 2021-10-26 12:48:10 -0500 (Tue, 26 Oct 2021)
nebbiolo1Linux (Ubuntu 20.04.4 LTS) / x86_64  OK    OK    OK  UNNEEDED, same version is already published
riesling1Windows Server 2019 Standard / x64  OK    OK    OK    OK  
palomino3Windows Server 2022 Datacenter / x64  OK    OK    OK    OK  NO, package depends on 'SummarizedExperiment' which is not available
merida1macOS 10.14.6 Mojave / x86_64  OK    OK    OK    OK  UNNEEDED, same version is already published

Summary

Package: compartmap
Version: 1.13.0
Command: /home/biocbuild/bbs-3.15-bioc/R/bin/R CMD check --install=check:compartmap.install-out.txt --library=/home/biocbuild/bbs-3.15-bioc/R/library --no-vignettes --timings compartmap_1.13.0.tar.gz
StartedAt: 2022-01-25 18:40:52 -0500 (Tue, 25 Jan 2022)
EndedAt: 2022-01-25 18:46:01 -0500 (Tue, 25 Jan 2022)
EllapsedTime: 309.5 seconds
RetCode: 0
Status:   OK  
CheckDir: compartmap.Rcheck
Warnings: 0

Command output

##############################################################################
##############################################################################
###
### Running command:
###
###   /home/biocbuild/bbs-3.15-bioc/R/bin/R CMD check --install=check:compartmap.install-out.txt --library=/home/biocbuild/bbs-3.15-bioc/R/library --no-vignettes --timings compartmap_1.13.0.tar.gz
###
##############################################################################
##############################################################################


* using log directory ‘/home/biocbuild/bbs-3.15-bioc/meat/compartmap.Rcheck’
* using R Under development (unstable) (2022-01-05 r81451)
* using platform: x86_64-pc-linux-gnu (64-bit)
* using session charset: UTF-8
* using option ‘--no-vignettes’
* checking for file ‘compartmap/DESCRIPTION’ ... OK
* checking extension type ... Package
* this is package ‘compartmap’ version ‘1.13.0’
* package encoding: UTF-8
* checking package namespace information ... OK
* checking package dependencies ... OK
* checking if this is a source package ... OK
* checking if there is a namespace ... OK
* checking for hidden files and directories ... OK
* checking for portable file names ... OK
* checking for sufficient/correct file permissions ... OK
* checking whether package ‘compartmap’ can be installed ... OK
* checking installed package size ... OK
* checking package directory ... OK
* checking ‘build’ directory ... OK
* checking DESCRIPTION meta-information ... OK
* checking top-level files ... OK
* checking for left-over files ... OK
* checking index information ... OK
* checking package subdirectories ... OK
* checking R files for non-ASCII characters ... OK
* checking R files for syntax errors ... OK
* checking whether the package can be loaded ... OK
* checking whether the package can be loaded with stated dependencies ... OK
* checking whether the package can be unloaded cleanly ... OK
* checking whether the namespace can be loaded with stated dependencies ... OK
* checking whether the namespace can be unloaded cleanly ... OK
* checking dependencies in R code ... NOTE
package 'methods' is used but not declared
* checking S3 generic/method consistency ... OK
* checking replacement functions ... OK
* checking foreign function calls ... OK
* checking R code for possible problems ... NOTE
.ebayes: no visible global function definition for ‘sd’
.jse: no visible global function definition for ‘sd’
.unitarize: no visible global function definition for ‘median’
.window.mean: no visible global function definition for ‘weighted.mean’
.window.mean.rcpp: no visible global function definition for
  ‘weighted.mean’
.window.mean.rcpp: no visible binding for global variable ‘x’
checkAssayType: no visible global function definition for ‘is’
condenseRE: no visible global function definition for ‘is’
condenseSE: no visible global function definition for ‘is’
estRMT: no visible global function definition for ‘cov’
estRMT : <anonymous>: no visible global function definition for ‘optim’
extractOpenClosed: no visible global function definition for ‘is’
filterCompartments: no visible global function definition for ‘is’
fixCompartments: no visible global function definition for ‘is’
getATACABsignal : atacCompartments: no visible global function
  definition for ‘keepSeqlevels’
getATACABsignal : atacCompartments: no visible global function
  definition for ‘as’
getATACABsignal : <anonymous>: no visible global function definition
  for ‘as’
getATACABsignal: no visible global function definition for ‘as’
getBinMatrix: no visible global function definition for ‘IRanges’
getCorMatrix: no visible global function definition for ‘cor’
getDenoisedCorMatrix: no visible global function definition for
  ‘keepSeqlevels’
getDomainInflections: no visible global function definition for ‘is’
getDomainInflections: no visible global function definition for ‘data’
getDomainInflections: no visible global function definition for
  ‘seqlengths’
getDomainInflections: no visible global function definition for
  ‘queryHits’
getDomainInflections: no visible global function definition for
  ‘subjectHits’
getDomainInflections : .getInflections: no visible global function
  definition for ‘IRanges’
getDomainInflections: no visible global function definition for ‘as’
getRNAABsignal : atacCompartments: no visible global function
  definition for ‘keepSeqlevels’
getRNAABsignal : atacCompartments: no visible global function
  definition for ‘as’
getRNAABsignal : <anonymous>: no visible global function definition for
  ‘as’
getRNAABsignal: no visible global function definition for ‘as’
getSVD: no visible global function definition for ‘cor’
getSeqLengths: no visible global function definition for ‘data’
getSeqLengths: no visible global function definition for ‘seqlevels’
getSeqLengths: no visible global function definition for ‘seqlengths’
hdf5TFIDF: no visible global function definition for ‘is’
hdf5TFIDF: no visible global function definition for ‘as’
importBigWig: no visible global function definition for
  ‘seqlevelsStyle<-’
importBigWig: no visible global function definition for ‘seqlengths’
importBigWig: no visible global function definition for
  ‘keepStandardChromosomes’
importBigWig: no visible global function definition for ‘keepSeqlevels’
importBigWig: no visible global function definition for ‘seqlevels’
importBigWig: no visible global function definition for ‘SimpleList’
meanSmoother: no visible global function definition for ‘median’
plotAB: no visible global function definition for ‘is’
plotAB: no visible global function definition for ‘keepSeqlevels’
plotAB: no visible global function definition for ‘as’
plotAB: no visible global function definition for ‘par’
plotAB: no visible global function definition for ‘barplot’
plotAB: no visible global function definition for ‘abline’
plotAB: no visible global function definition for ‘median’
plotCorMatrix: no visible binding for global variable ‘Var2’
plotCorMatrix: no visible binding for global variable ‘Var1’
plotCorMatrix: no visible binding for global variable ‘value’
precomputeBootstrapMeans : <anonymous>: no visible global function
  definition for ‘SimpleList’
sparseToDenseMatrix: no visible global function definition for ‘as’
sparseToDenseMatrix : <anonymous>: no visible global function
  definition for ‘as’
summarizeBootstraps : <anonymous>: no visible global function
  definition for ‘subjectHits’
summarizeBootstraps : <anonymous>: no visible global function
  definition for ‘queryHits’
transformTFIDF: no visible global function definition for ‘is’
as.matrix,GRanges: no visible global function definition for ‘as’
coerce,GRanges-matrix: no visible global function definition for ‘as’
coerce,matrix-GRanges: no visible global function definition for ‘as’
granges,matrix: no visible global function definition for ‘as’
Undefined global functions or variables:
  IRanges SimpleList Var1 Var2 abline as barplot cor cov data is
  keepSeqlevels keepStandardChromosomes median optim par queryHits sd
  seqlengths seqlevels seqlevelsStyle<- subjectHits value weighted.mean
  x
Consider adding
  importFrom("graphics", "abline", "barplot", "par")
  importFrom("methods", "as", "is")
  importFrom("stats", "cor", "cov", "median", "optim", "sd",
             "weighted.mean")
  importFrom("utils", "data")
to your NAMESPACE file (and ensure that your DESCRIPTION Imports field
contains 'methods').
* checking Rd files ... NOTE
prepare_Rd: filterCompartments.Rd:22-24: Dropping empty section \examples
prepare_Rd: fixCompartments.Rd:24-26: Dropping empty section \examples
prepare_Rd: summarizeBootstraps.Rd:24-26: Dropping empty section \examples
* checking Rd metadata ... OK
* checking Rd cross-references ... OK
* checking for missing documentation entries ... OK
* checking for code/documentation mismatches ... OK
* checking Rd \usage sections ... OK
* checking Rd contents ... OK
* checking for unstated dependencies in examples ... OK
* checking contents of ‘data’ directory ... OK
* checking data for non-ASCII characters ... OK
* checking data for ASCII and uncompressed saves ... OK
* checking files in ‘vignettes’ ... OK
* checking examples ... OK
Examples with CPU (user + system) or elapsed time > 5s
                     user system elapsed
scCompartments    107.746  0.196 107.944
getDenoisedMatrix   7.332  0.628   7.960
* checking for unstated dependencies in vignettes ... OK
* checking package vignettes in ‘inst/doc’ ... OK
* checking running R code from vignettes ... SKIPPED
* checking re-building of vignette outputs ... SKIPPED
* checking PDF version of manual ... OK
* DONE

Status: 3 NOTEs
See
  ‘/home/biocbuild/bbs-3.15-bioc/meat/compartmap.Rcheck/00check.log’
for details.



Installation output

compartmap.Rcheck/00install.out

##############################################################################
##############################################################################
###
### Running command:
###
###   /home/biocbuild/bbs-3.15-bioc/R/bin/R CMD INSTALL compartmap
###
##############################################################################
##############################################################################


* installing to library ‘/home/biocbuild/bbs-3.15-bioc/R/library’
* installing *source* package ‘compartmap’ ...
** using staged installation
** R
** data
** inst
** byte-compile and prepare package for lazy loading
** help
*** installing help indices
*** copying figures
** building package indices
** installing vignettes
** testing if installed package can be loaded from temporary location
** testing if installed package can be loaded from final location
** testing if installed package keeps a record of temporary installation path
* DONE (compartmap)

Tests output


Example timings

compartmap.Rcheck/compartmap-Ex.timings

nameusersystemelapsed
agrestiCoullCI0.0000.0010.001
bootstrapCompartments000
checkAssayType0.1260.0160.142
condenseRE0.4380.0000.437
condenseSE0.3170.0400.357
estRMT0.1350.0000.134
extractOpenClosed0.0210.0000.021
fexpit0.0040.0000.004
fisherZ0.0020.0000.002
flogit0.0020.0000.002
getABSignal0.2530.0270.280
getATACABsignal4.2670.1004.368
getAssayNames0.1230.0080.131
getBinMatrix0.1380.0280.167
getChrs0.1110.0360.147
getCorMatrix0.1500.0320.182
getDenoisedMatrix7.3320.6287.960
getDomainInflections1.8770.2642.141
getGlobalMeans0.2220.0320.254
getMatrixBlocks0.010.000.01
getSVD0.0060.0000.006
getSeqLengths0.0020.0000.001
getShrinkageTargets0.0010.0000.001
hdf5TFIDF0.1930.0120.205
ifisherZ0.0000.0010.002
meanSmoother1.0330.0021.035
plotAB0.1680.0160.184
plotCorMatrix0.0270.0000.027
precomputeBootstrapMeans1.1080.0361.144
scCompartments107.746 0.196107.944
shrinkBins1.4390.0081.447
sparseToDenseMatrix0.0270.0040.030
transformTFIDF0.0170.0000.018