Back to Multiple platform build/check report for BioC 3.17:   simplified   long
AB[C]DEFGHIJKLMNOPQRSTUVWXYZ

This page was generated on 2023-02-04 11:06:02 -0500 (Sat, 04 Feb 2023).

HostnameOSArch (*)R versionInstalled pkgs
nebbiolo1Linux (Ubuntu 22.04.1 LTS)x86_64R Under development (unstable) (2023-01-10 r83596) -- "Unsuffered Consequences" 4483
palomino3Windows Server 2022 Datacenterx64R Under development (unstable) (2023-01-10 r83596 ucrt) -- "Unsuffered Consequences" 4249
merida1macOS 10.14.6 Mojavex86_64R Under development (unstable) (2023-01-10 r83596) -- "Unsuffered Consequences" 4272
Click on any hostname to see more info about the system (e.g. compilers)      (*) as reported by 'uname -p', except on Windows and Mac OS X

CHECK results for compartmap on merida1


To the developers/maintainers of the compartmap package:
- Please allow up to 24 hours (and sometimes 48 hours) for your latest push to git@git.bioconductor.org:packages/compartmap.git to
reflect on this report. See How and When does the builder pull? When will my changes propagate? for more information.
- Make sure to use the following settings in order to reproduce any error or warning you see on this page.

raw results

Package 386/2164HostnameOS / ArchINSTALLBUILDCHECKBUILD BIN
compartmap 1.17.0  (landing page)
Benjamin Johnson
Snapshot Date: 2023-02-03 14:00:22 -0500 (Fri, 03 Feb 2023)
git_url: https://git.bioconductor.org/packages/compartmap
git_branch: master
git_last_commit: c26f814
git_last_commit_date: 2022-11-01 11:18:52 -0500 (Tue, 01 Nov 2022)
nebbiolo1Linux (Ubuntu 22.04.1 LTS) / x86_64  OK    OK    OK  UNNEEDED, same version is already published
palomino3Windows Server 2022 Datacenter / x64  OK    OK    OK    OK  UNNEEDED, same version is already published
merida1macOS 10.14.6 Mojave / x86_64  OK    OK    OK    OK  UNNEEDED, same version is already published

Summary

Package: compartmap
Version: 1.17.0
Command: /Library/Frameworks/R.framework/Resources/bin/R CMD check --install=check:compartmap.install-out.txt --library=/Library/Frameworks/R.framework/Resources/library --no-vignettes --timings compartmap_1.17.0.tar.gz
StartedAt: 2023-02-03 23:51:33 -0500 (Fri, 03 Feb 2023)
EndedAt: 2023-02-04 00:04:20 -0500 (Sat, 04 Feb 2023)
EllapsedTime: 767.2 seconds
RetCode: 0
Status:   OK  
CheckDir: compartmap.Rcheck
Warnings: 0

Command output

##############################################################################
##############################################################################
###
### Running command:
###
###   /Library/Frameworks/R.framework/Resources/bin/R CMD check --install=check:compartmap.install-out.txt --library=/Library/Frameworks/R.framework/Resources/library --no-vignettes --timings compartmap_1.17.0.tar.gz
###
##############################################################################
##############################################################################


* using log directory ‘/Users/biocbuild/bbs-3.17-bioc/meat/compartmap.Rcheck’
* using R Under development (unstable) (2023-01-10 r83596)
* using platform: x86_64-apple-darwin17.0 (64-bit)
* R was compiled by
    Apple clang version 12.0.0 (clang-1200.0.32.29)
    GNU Fortran (GCC) 8.2.0
* running under: macOS Mojave 10.14.6
* using session charset: UTF-8
* using option ‘--no-vignettes’
* checking for file ‘compartmap/DESCRIPTION’ ... OK
* checking extension type ... Package
* this is package ‘compartmap’ version ‘1.17.0’
* package encoding: UTF-8
* checking package namespace information ... OK
* checking package dependencies ... OK
* checking if this is a source package ... OK
* checking if there is a namespace ... OK
* checking for hidden files and directories ... OK
* checking for portable file names ... OK
* checking for sufficient/correct file permissions ... OK
* checking whether package ‘compartmap’ can be installed ... OK
* checking installed package size ... OK
* checking package directory ... OK
* checking ‘build’ directory ... OK
* checking DESCRIPTION meta-information ... OK
* checking top-level files ... OK
* checking for left-over files ... OK
* checking index information ... OK
* checking package subdirectories ... OK
* checking R files for non-ASCII characters ... OK
* checking R files for syntax errors ... OK
* checking whether the package can be loaded ... OK
* checking whether the package can be loaded with stated dependencies ... OK
* checking whether the package can be unloaded cleanly ... OK
* checking whether the namespace can be loaded with stated dependencies ... OK
* checking whether the namespace can be unloaded cleanly ... OK
* checking dependencies in R code ... NOTE
package 'methods' is used but not declared
* checking S3 generic/method consistency ... OK
* checking replacement functions ... OK
* checking foreign function calls ... OK
* checking R code for possible problems ... NOTE
.ebayes: no visible global function definition for ‘sd’
.jse: no visible global function definition for ‘sd’
.unitarize: no visible global function definition for ‘median’
.window.mean: no visible global function definition for ‘weighted.mean’
.window.mean.rcpp: no visible global function definition for
  ‘weighted.mean’
.window.mean.rcpp: no visible binding for global variable ‘x’
checkAssayType: no visible global function definition for ‘is’
condenseRE: no visible global function definition for ‘is’
condenseSE: no visible global function definition for ‘is’
estRMT: no visible global function definition for ‘cov’
estRMT : <anonymous>: no visible global function definition for ‘optim’
extractOpenClosed: no visible global function definition for ‘is’
filterCompartments: no visible global function definition for ‘is’
fixCompartments: no visible global function definition for ‘is’
getATACABsignal : atacCompartments: no visible global function
  definition for ‘keepSeqlevels’
getATACABsignal : atacCompartments: no visible global function
  definition for ‘as’
getATACABsignal : <anonymous>: no visible global function definition
  for ‘as’
getATACABsignal: no visible global function definition for ‘as’
getBinMatrix: no visible global function definition for ‘IRanges’
getCorMatrix: no visible global function definition for ‘cor’
getDenoisedCorMatrix: no visible global function definition for
  ‘keepSeqlevels’
getDomainInflections: no visible global function definition for ‘is’
getDomainInflections: no visible global function definition for ‘data’
getDomainInflections: no visible global function definition for
  ‘seqlengths’
getDomainInflections: no visible global function definition for
  ‘queryHits’
getDomainInflections: no visible global function definition for
  ‘subjectHits’
getDomainInflections : .getInflections: no visible global function
  definition for ‘IRanges’
getDomainInflections: no visible global function definition for ‘as’
getRNAABsignal : atacCompartments: no visible global function
  definition for ‘keepSeqlevels’
getRNAABsignal : atacCompartments: no visible global function
  definition for ‘as’
getRNAABsignal : <anonymous>: no visible global function definition for
  ‘as’
getRNAABsignal: no visible global function definition for ‘as’
getSVD: no visible global function definition for ‘cor’
getSeqLengths: no visible global function definition for ‘data’
getSeqLengths: no visible global function definition for ‘seqlevels’
getSeqLengths: no visible global function definition for ‘seqlengths’
hdf5TFIDF: no visible global function definition for ‘is’
hdf5TFIDF: no visible global function definition for ‘as’
importBigWig: no visible global function definition for
  ‘seqlevelsStyle<-’
importBigWig: no visible global function definition for ‘seqlengths’
importBigWig: no visible global function definition for
  ‘keepStandardChromosomes’
importBigWig: no visible global function definition for ‘keepSeqlevels’
importBigWig: no visible global function definition for ‘seqlevels’
importBigWig: no visible global function definition for ‘SimpleList’
meanSmoother: no visible global function definition for ‘median’
plotAB: no visible global function definition for ‘is’
plotAB: no visible global function definition for ‘keepSeqlevels’
plotAB: no visible global function definition for ‘as’
plotAB: no visible global function definition for ‘par’
plotAB: no visible global function definition for ‘barplot’
plotAB: no visible global function definition for ‘abline’
plotAB: no visible global function definition for ‘median’
plotCorMatrix: no visible binding for global variable ‘Var2’
plotCorMatrix: no visible binding for global variable ‘Var1’
plotCorMatrix: no visible binding for global variable ‘value’
precomputeBootstrapMeans : <anonymous>: no visible global function
  definition for ‘SimpleList’
sparseToDenseMatrix: no visible global function definition for ‘as’
sparseToDenseMatrix : <anonymous>: no visible global function
  definition for ‘as’
summarizeBootstraps : <anonymous>: no visible global function
  definition for ‘subjectHits’
summarizeBootstraps : <anonymous>: no visible global function
  definition for ‘queryHits’
transformTFIDF: no visible global function definition for ‘is’
as.matrix,GRanges: no visible global function definition for ‘as’
coerce,GRanges-matrix: no visible global function definition for ‘as’
coerce,matrix-GRanges: no visible global function definition for ‘as’
granges,matrix: no visible global function definition for ‘as’
Undefined global functions or variables:
  IRanges SimpleList Var1 Var2 abline as barplot cor cov data is
  keepSeqlevels keepStandardChromosomes median optim par queryHits sd
  seqlengths seqlevels seqlevelsStyle<- subjectHits value weighted.mean
  x
Consider adding
  importFrom("graphics", "abline", "barplot", "par")
  importFrom("methods", "as", "is")
  importFrom("stats", "cor", "cov", "median", "optim", "sd",
             "weighted.mean")
  importFrom("utils", "data")
to your NAMESPACE file (and ensure that your DESCRIPTION Imports field
contains 'methods').
* checking Rd files ... NOTE
prepare_Rd: filterCompartments.Rd:22-24: Dropping empty section \examples
prepare_Rd: fixCompartments.Rd:24-26: Dropping empty section \examples
prepare_Rd: summarizeBootstraps.Rd:24-26: Dropping empty section \examples
* checking Rd metadata ... OK
* checking Rd cross-references ... OK
* checking for missing documentation entries ... OK
* checking for code/documentation mismatches ... OK
* checking Rd \usage sections ... OK
* checking Rd contents ... OK
* checking for unstated dependencies in examples ... OK
* checking contents of ‘data’ directory ... OK
* checking data for non-ASCII characters ... OK
* checking data for ASCII and uncompressed saves ... OK
* checking files in ‘vignettes’ ... OK
* checking examples ... OK
Examples with CPU (user + system) or elapsed time > 5s
                     user system elapsed
scCompartments    169.233  2.143 233.264
getDenoisedMatrix  19.352  0.180  26.106
getATACABsignal     3.546  0.096   5.031
* checking for unstated dependencies in vignettes ... OK
* checking package vignettes in ‘inst/doc’ ... OK
* checking running R code from vignettes ... SKIPPED
* checking re-building of vignette outputs ... SKIPPED
* checking PDF version of manual ... OK
* DONE

Status: 3 NOTEs
See
  ‘/Users/biocbuild/bbs-3.17-bioc/meat/compartmap.Rcheck/00check.log’
for details.



Installation output

compartmap.Rcheck/00install.out

##############################################################################
##############################################################################
###
### Running command:
###
###   /Library/Frameworks/R.framework/Resources/bin/R CMD INSTALL compartmap
###
##############################################################################
##############################################################################


* installing to library ‘/Library/Frameworks/R.framework/Versions/4.3/Resources/library’
* installing *source* package ‘compartmap’ ...
** using staged installation
** R
** data
** inst
** byte-compile and prepare package for lazy loading
** help
*** installing help indices
*** copying figures
** building package indices
** installing vignettes
** testing if installed package can be loaded from temporary location
** testing if installed package can be loaded from final location
** testing if installed package keeps a record of temporary installation path
* DONE (compartmap)

Tests output


Example timings

compartmap.Rcheck/compartmap-Ex.timings

nameusersystemelapsed
agrestiCoullCI0.0020.0000.002
bootstrapCompartments000
checkAssayType0.3070.0360.468
condenseRE1.0240.0071.407
condenseSE0.7820.0611.155
estRMT0.3370.0520.518
extractOpenClosed0.0400.0050.055
fexpit0.0060.0010.010
fisherZ0.0020.0000.007
flogit0.0020.0000.005
getABSignal0.4940.0730.754
getATACABsignal3.5460.0965.031
getAssayNames0.2710.0040.351
getBinMatrix0.3280.0590.499
getChrs0.2780.0040.362
getCorMatrix0.3330.0600.543
getDenoisedMatrix19.352 0.18026.106
getDomainInflections2.4710.0483.433
getGlobalMeans0.5040.0150.719
getMatrixBlocks0.0140.0010.019
getSVD0.0130.0000.016
getSeqLengths0.0030.0010.003
getShrinkageTargets0.0010.0000.001
hdf5TFIDF0.3870.0180.584
ifisherZ0.0030.0000.003
meanSmoother3.4910.0234.687
plotAB0.4320.0590.659
plotCorMatrix0.0560.0020.084
precomputeBootstrapMeans0.7780.0121.043
scCompartments169.233 2.143233.264
shrinkBins2.1540.0383.022
sparseToDenseMatrix0.0490.0010.075
transformTFIDF0.0250.0010.034