Index of /checkResults/devel/bioc-LATEST/coRdon/raw-results/merida1

[ICO]NameLast modifiedSizeDescription

[DIR]Parent Directory  -  
[TXT]buildbin-out.txt05-Feb-2023 01:06 1.2K 
[   ]buildbin-summary.dcf05-Feb-2023 01:06 524  
[TXT]buildsrc-out.txt05-Feb-2023 01:06 812  
[   ]buildsrc-summary.dcf05-Feb-2023 01:06 425  
[TXT]checksrc-out.txt05-Feb-2023 01:06 3.5K 
[   ]checksrc-summary.dcf05-Feb-2023 01:06 440  
[TXT]install-out.txt05-Feb-2023 01:06 1.0K 
[   ]install-summary.dcf05-Feb-2023 01:06 267