Index of /checkResults/devel/bioc-LATEST/coMethDMR/raw-results
Name
Last modified
Size
Description
Parent Directory
-
info.dcf
15-May-2022 00:07
269
lconway/
15-May-2022 00:07
-
nebbiolo2/
15-May-2022 00:05
-
palomino4/
15-May-2022 00:06
-