![]() | Name | Last modified | Size | Description |
---|---|---|---|---|
![]() | Parent Directory | - | ||
![]() | buildsrc-out.txt | 02-Dec-2023 01:38 | 870 | |
![]() | buildsrc-summary.dcf | 02-Dec-2023 01:38 | 421 | |
![]() | checksrc-out.txt | 02-Dec-2023 01:38 | 8.8K | |
![]() | checksrc-summary.dcf | 02-Dec-2023 01:38 | 443 | |
![]() | install-out.txt | 02-Dec-2023 01:38 | 1.3K | |
![]() | install-summary.dcf | 02-Dec-2023 01:38 | 264 | |