Back to Multiple platform build/check report for BioC 3.15
AB[C]DEFGHIJKLMNOPQRSTUVWXYZ

This page was generated on 2022-01-26 11:07:22 -0500 (Wed, 26 Jan 2022).

HostnameOSArch (*)R versionInstalled pkgs
nebbiolo1Linux (Ubuntu 20.04.4 LTS)x86_64R Under development (unstable) (2022-01-05 r81451) -- "Unsuffered Consequences" 4164
riesling1Windows Server 2019 Standardx64R Under development (unstable) (2021-11-21 r81221) -- "Unsuffered Consequences" 4059
palomino3Windows Server 2022 Datacenterx64R Under development (unstable) (2021-12-21 r81400 ucrt) -- "Unsuffered Consequences" 4001
merida1macOS 10.14.6 Mojavex86_64R Under development (unstable) (2022-01-05 r81451) -- "Unsuffered Consequences" 4118
Click on any hostname to see more info about the system (e.g. compilers)      (*) as reported by 'uname -p', except on Windows and Mac OS X

CHECK results for cnvGSA on riesling1


To the developers/maintainers of the cnvGSA package:
- Please allow up to 24 hours (and sometimes 48 hours) for your latest push to git@git.bioconductor.org:packages/cnvGSA.git to
reflect on this report. See How and When does the builder pull? When will my changes propagate? here for more information.
- Make sure to use the following settings in order to reproduce any error or warning you see on this page.

raw results

Package 355/2075HostnameOS / ArchINSTALLBUILDCHECKBUILD BIN
cnvGSA 1.39.0  (landing page)
Joseph Lugo
Snapshot Date: 2022-01-25 13:55:17 -0500 (Tue, 25 Jan 2022)
git_url: https://git.bioconductor.org/packages/cnvGSA
git_branch: master
git_last_commit: 7dd935f
git_last_commit_date: 2021-10-26 12:02:49 -0500 (Tue, 26 Oct 2021)
nebbiolo1Linux (Ubuntu 20.04.4 LTS) / x86_64  OK    OK    OK  UNNEEDED, same version is already published
riesling1Windows Server 2019 Standard / x64  OK    OK    OK    OK  
palomino3Windows Server 2022 Datacenter / x64  OK    OK    OK    OK  NO, package depends on 'GenomicRanges' which is not available
merida1macOS 10.14.6 Mojave / x86_64  OK    OK    OK    OK  UNNEEDED, same version is already published

Summary

Package: cnvGSA
Version: 1.39.0
Command: D:\biocbuild\bbs-3.15-bioc\R\bin\R.exe CMD check --no-multiarch --install=check:cnvGSA.install-out.txt --library=D:\biocbuild\bbs-3.15-bioc\R\library --no-vignettes --timings cnvGSA_1.39.0.tar.gz
StartedAt: 2022-01-25 18:37:50 -0500 (Tue, 25 Jan 2022)
EndedAt: 2022-01-25 18:39:00 -0500 (Tue, 25 Jan 2022)
EllapsedTime: 70.4 seconds
RetCode: 0
Status:   OK  
CheckDir: cnvGSA.Rcheck
Warnings: 0

Command output

##############################################################################
##############################################################################
###
### Running command:
###
###   D:\biocbuild\bbs-3.15-bioc\R\bin\R.exe CMD check --no-multiarch --install=check:cnvGSA.install-out.txt --library=D:\biocbuild\bbs-3.15-bioc\R\library --no-vignettes --timings cnvGSA_1.39.0.tar.gz
###
##############################################################################
##############################################################################


* using log directory 'D:/biocbuild/bbs-3.15-bioc/meat/cnvGSA.Rcheck'
* using R Under development (unstable) (2021-11-21 r81221)
* using platform: x86_64-w64-mingw32 (64-bit)
* using session charset: ISO8859-1
* using option '--no-vignettes'
* checking for file 'cnvGSA/DESCRIPTION' ... OK
* checking extension type ... Package
* this is package 'cnvGSA' version '1.39.0'
* checking package namespace information ... OK
* checking package dependencies ... OK
* checking if this is a source package ... OK
* checking if there is a namespace ... OK
* checking for hidden files and directories ... OK
* checking for portable file names ... OK
* checking whether package 'cnvGSA' can be installed ... OK
* checking installed package size ... OK
* checking package directory ... OK
* checking 'build' directory ... OK
* checking DESCRIPTION meta-information ... OK
* checking top-level files ... OK
* checking for left-over files ... OK
* checking index information ... OK
* checking package subdirectories ... OK
* checking R files for non-ASCII characters ... OK
* checking R files for syntax errors ... OK
* checking whether the package can be loaded ... OK
* checking whether the package can be loaded with stated dependencies ... OK
* checking whether the package can be unloaded cleanly ... OK
* checking whether the namespace can be loaded with stated dependencies ... OK
* checking whether the namespace can be unloaded cleanly ... OK
* checking dependencies in R code ... NOTE
Packages in Depends field not imported from:
  'brglm' 'doParallel' 'foreach' 'splitstackshape'
  These packages need to be imported from (in the NAMESPACE file)
  for when this namespace is loaded but not attached.
* checking S3 generic/method consistency ... OK
* checking replacement functions ... OK
* checking foreign function calls ... OK
* checking R code for possible problems ... NOTE
cnvGSAgsTables: no visible global function definition for 'detectCores'
cnvGSAgsTables: no visible binding for global variable 'SID'
cnvGSAgsTables: no visible binding for global variable 'geneID_TYPE'
cnvGSAgsTables: no visible binding for global variable 'SubjCnvKey'
cnvGSAgsTables: no visible global function definition for
  'registerDoParallel'
cnvGSAgsTables: no visible global function definition for '%dopar%'
cnvGSAgsTables: no visible global function definition for 'foreach'
cnvGSAgsTables: no visible binding for global variable 'i'
cnvGSAgsTables: no visible binding for global variable 'CHR'
cnvGSAgsTables: no visible binding for global variable 'BP1'
cnvGSAgsTables: no visible binding for global variable 'BP2'
cnvGSAgsTables: no visible binding for global variable 'TYPE'
cnvGSAgsTables: no visible binding for global variable 'geneID'
cnvGSAgsTables: no visible binding for global variable 'Symbol'
cnvGSAgsTables: no visible binding for global variable 'Symbol_TYPE'
cnvGSAgsTables: no visible binding for global variable 'GsKey'
cnvGSAlogRegTest: no visible binding for global variable 'GsID'
cnvGSAlogRegTest: no visible binding for global variable 'GsKey'
cnvGSAlogRegTest: no visible binding for global variable 'OlpKL_SID'
cnvGSAlogRegTest : f.testGLM_wrap: no visible binding for global
  variable 'Condition'
cnvGSAlogRegTest : f.testGLM_wrap: no visible global function
  definition for 'detectCores'
cnvGSAlogRegTest : f.testGLM_wrap: no visible global function
  definition for 'registerDoParallel'
cnvGSAlogRegTest : f.testGLM_wrap: no visible global function
  definition for '%dopar%'
cnvGSAlogRegTest : f.testGLM_wrap: no visible global function
  definition for 'foreach'
cnvGSAlogRegTest : f.testGLM_wrap: no visible binding for global
  variable 'i'
cnvGSAlogRegTest : f.testGLM_unit: no visible global function
  definition for 'glm'
cnvGSAlogRegTest : f.testGLM_unit: no visible global function
  definition for 'as.formula'
cnvGSAlogRegTest : f.testGLM_unit: no visible global function
  definition for 'binomial'
cnvGSAlogRegTest : f.testGLM_unit: no visible binding for global
  variable 'logit'
cnvGSAlogRegTest : f.testGLM_unit: no visible global function
  definition for 'anova'
cnvGSAlogRegTest: no visible global function definition for 'p.adjust'
cnvGSAlogRegTest: no visible global function definition for
  'write.table'
f.enrProcess: no visible global function definition for 'write.table'
f.makeViz: no visible global function definition for 'write.table'
f.makeViz: no visible global function definition for 'pdf'
f.makeViz: no visible global function definition for 'par'
f.makeViz: no visible global function definition for 'barplot'
f.makeViz: no visible global function definition for 'dev.off'
f.readConfig: no visible global function definition for 'read.table'
f.readData: no visible global function definition for 'read.table'
f.readData: no visible binding for global variable 'IID'
f.readData: no visible binding for global variable 'FID'
f.readData: no visible binding for global variable 'AFF'
f.readData: no visible binding for global variable 'SID'
f.readData: no visible binding for global variable 'gs_all.ls'
f.readData: no visible binding for global variable 'gsid2name.chv'
f.readData: no visible global function definition for 'GRanges'
f.readData: no visible global function definition for 'Rle'
f.readData: no visible global function definition for 'IRanges'
f.readData: no visible global function definition for 'strand'
f.readData: no visible global function definition for 'start'
f.readData: no visible global function definition for 'ranges'
f.readData: no visible global function definition for 'end'
f.readData: no visible global function definition for 'mcols'
f.readData: no visible binding for global variable 'OlpKL_CNV'
f.readData: no visible global function definition for 'stack'
f.readData: no visible binding for global variable 'geneID_type'
f.readData: no visible binding for global variable 'CnvKey'
f.readData: no visible binding for global variable 'OlpKL_SID'
f.readData: no visible binding for global variable 'geneID_TYPE'
f.readData: no visible binding for global variable 'SubjCnvKey'
f.readData: no visible binding for global variable 'GsKey'
f.readData: no visible binding for global variable 'GsID'
f.readData: no visible binding for global variable 'GsName'
f.readData: no visible global function definition for 'cSplit'
f.readData: no visible binding for global variable 'Symbol'
f.readData: no visible global function definition for 'aggregate'
Undefined global functions or variables:
  %dopar% AFF BP1 BP2 CHR CnvKey Condition FID GRanges GsID GsKey
  GsName IID IRanges OlpKL_CNV OlpKL_SID Rle SID SubjCnvKey Symbol
  Symbol_TYPE TYPE aggregate anova as.formula barplot binomial cSplit
  detectCores dev.off end foreach geneID geneID_TYPE geneID_type glm
  gs_all.ls gsid2name.chv i logit mcols p.adjust par pdf ranges
  read.table registerDoParallel stack start strand write.table
Consider adding
  importFrom("grDevices", "dev.off", "pdf")
  importFrom("graphics", "barplot", "par")
  importFrom("stats", "aggregate", "anova", "as.formula", "binomial",
             "end", "glm", "p.adjust", "start")
  importFrom("utils", "read.table", "stack", "write.table")
to your NAMESPACE file.
* checking Rd files ... OK
* checking Rd metadata ... OK
* checking Rd cross-references ... OK
* checking for missing documentation entries ... OK
* checking for code/documentation mismatches ... OK
* checking Rd \usage sections ... OK
* checking Rd contents ... OK
* checking for unstated dependencies in examples ... OK
* checking installed files from 'inst/doc' ... OK
* checking files in 'vignettes' ... OK
* checking examples ... OK
* checking for unstated dependencies in vignettes ... OK
* checking package vignettes in 'inst/doc' ... OK
* checking running R code from vignettes ... SKIPPED
* checking re-building of vignette outputs ... SKIPPED
* checking PDF version of manual ... OK
* DONE

Status: 2 NOTEs
See
  'D:/biocbuild/bbs-3.15-bioc/meat/cnvGSA.Rcheck/00check.log'
for details.



Installation output

cnvGSA.Rcheck/00install.out

##############################################################################
##############################################################################
###
### Running command:
###
###   D:\biocbuild\bbs-3.15-bioc\R\bin\R.exe CMD INSTALL cnvGSA
###
##############################################################################
##############################################################################


* installing to library 'D:/biocbuild/bbs-3.15-bioc/R/library'
* installing *source* package 'cnvGSA' ...
** using staged installation
** R
** inst
** byte-compile and prepare package for lazy loading
** help
*** installing help indices
  converting help for package 'cnvGSA'
    finding HTML links ... done
    CnvGSAInput-class                       html  
    CnvGSAOutput-class                      html  
    cnvGSA-package                          html  
    cnvGSAIn                                html  
    cnvGSAgsTables                          html  
    cnvGSAlogRegTest                        html  
    f.enrFiles                              html  
    f.makeViz                               html  
    f.readConfig                            html  
** building package indices
** installing vignettes
** testing if installed package can be loaded from temporary location
** testing if installed package can be loaded from final location
** testing if installed package keeps a record of temporary installation path
* DONE (cnvGSA)
Making 'packages.html' ...Warning in packageDescription(i, lib.loc = lib, fields = "Title", encoding = "UTF-8") :
  DESCRIPTION file of package 'BCRANK' is missing or broken
 done

Tests output


Example timings

cnvGSA.Rcheck/cnvGSA-Ex.timings

nameusersystemelapsed
CnvGSAInput-class000
CnvGSAOutput-class000
cnvGSAIn0.270.050.36
cnvGSAgsTables0.390.000.47
cnvGSAlogRegTest0.400.000.41
f.enrFiles000
f.makeViz000
f.readConfig0.390.030.43