Index of /checkResults/devel/bioc-LATEST/cnvGSA/raw-results/nebbiolo2

[ICO]NameLast modifiedSizeDescription

[DIR]Parent Directory  -  
[TXT]buildsrc-out.txt02-Jul-2022 00:04 802  
[   ]buildsrc-summary.dcf02-Jul-2022 00:04 412  
[TXT]checksrc-out.txt02-Jul-2022 00:04 8.7K 
[   ]checksrc-summary.dcf02-Jul-2022 00:04 419  
[TXT]install-out.txt02-Jul-2022 00:04 944  
[   ]install-summary.dcf02-Jul-2022 00:04 257