Index of /checkResults/devel/bioc-LATEST/cnvGSA/raw-results/kjohnson

[ICO]NameLast modifiedSizeDescription

[DIR]Parent Directory  -  
[TXT]buildbin-out.txt08-Jul-2022 00:10 1.1K 
[   ]buildbin-summary.dcf08-Jul-2022 00:10 524  
[TXT]buildsrc-out.txt08-Jul-2022 00:10 812  
[   ]buildsrc-summary.dcf08-Jul-2022 00:10 424  
[TXT]install-out.txt12-Jul-2022 00:06 1.0K 
[   ]install-summary.dcf12-Jul-2022 00:06 267