Index of /checkResults/devel/bioc-LATEST/cnvGSA/raw-results
Name
Last modified
Size
Description
Parent Directory
-
info.dcf
12-Aug-2022 00:07
265
palomino4/
12-Aug-2022 00:06
-
nebbiolo2/
12-Aug-2022 00:05
-
lconway/
12-Aug-2022 00:07
-
kjohnson/
12-Jul-2022 00:06
-