Index of /checkResults/devel/bioc-LATEST/cnvGSA/raw-results
Name
Last modified
Size
Description
Parent Directory
-
info.dcf
30-May-2023 00:06
264
lconway/
30-May-2023 00:06
-
nebbiolo2/
30-May-2023 00:05
-
palomino4/
30-May-2023 00:05
-