Back to Multiple platform build/check report for BioC 3.14
AB[C]DEFGHIJKLMNOPQRSTUVWXYZ

This page was generated on 2021-10-20 12:05:03 -0400 (Wed, 20 Oct 2021).

BUILD BIN results for clusterExperiment on riesling1

To the developers/maintainers of the clusterExperiment package:
- Please allow up to 24 hours (and sometimes 48 hours) for your latest push to git@git.bioconductor.org:packages/clusterExperiment.git to
reflect on this report. See How and When does the builder pull? When will my changes propagate? here for more information.
- Make sure to use the following settings in order to reproduce any error or warning you see on this page.

raw results

Package 335/2072HostnameOS / ArchINSTALLBUILDCHECKBUILD BIN
clusterExperiment 2.13.2  (landing page)
Elizabeth Purdom
Snapshot Date: 2021-10-19 14:50:04 -0400 (Tue, 19 Oct 2021)
git_url: https://git.bioconductor.org/packages/clusterExperiment
git_branch: master
git_last_commit: 932770f
git_last_commit_date: 2021-09-16 12:01:53 -0400 (Thu, 16 Sep 2021)
nebbiolo2Linux (Ubuntu 20.04.2 LTS) / x86_64  OK    OK    WARNINGS  UNNEEDED, same version is already published
riesling1Windows Server 2019 Standard / x64  OK    OK    WARNINGS    OK  UNNEEDED, same version is already published
merida1macOS 10.14.6 Mojave / x86_64  OK    OK    TIMEOUT    OK  

Summary

Package: clusterExperiment
Version: 2.13.2
Command: rm -rf clusterExperiment.buildbin-libdir && mkdir clusterExperiment.buildbin-libdir && D:\biocbuild\bbs-3.14-bioc\R\bin\R.exe CMD INSTALL --merge-multiarch --build --library=clusterExperiment.buildbin-libdir clusterExperiment_2.13.2.tar.gz
StartedAt: 2021-10-20 05:25:28 -0400 (Wed, 20 Oct 2021)
EndedAt: 2021-10-20 05:29:26 -0400 (Wed, 20 Oct 2021)
EllapsedTime: 238.4 seconds
RetCode: 0
Status:   OK  
PackageFile: clusterExperiment_2.13.2.zip
PackageFileSize: 9.589 MiB

Command output

##############################################################################
##############################################################################
###
### Running command:
###
###   rm -rf clusterExperiment.buildbin-libdir && mkdir clusterExperiment.buildbin-libdir && D:\biocbuild\bbs-3.14-bioc\R\bin\R.exe CMD INSTALL --merge-multiarch --build --library=clusterExperiment.buildbin-libdir clusterExperiment_2.13.2.tar.gz
###
##############################################################################
##############################################################################



install for i386

* installing *source* package 'clusterExperiment' ...
** using staged installation
** libs
"C:/rtools40/mingw32/bin/"g++  -std=gnu++11 -I"D:/biocbuild/bbs-3.14-bioc/R/include" -DNDEBUG  -I'D:/biocbuild/bbs-3.14-bioc/R/library/Rcpp/include'   -I"C:/extsoft/include"     -O2 -Wall  -mfpmath=sse -msse2 -mstackrealign  -c RcppExports.cpp -o RcppExports.o
"C:/rtools40/mingw32/bin/"g++  -std=gnu++11 -I"D:/biocbuild/bbs-3.14-bioc/R/include" -DNDEBUG  -I'D:/biocbuild/bbs-3.14-bioc/R/library/Rcpp/include'   -I"C:/extsoft/include"     -O2 -Wall  -mfpmath=sse -msse2 -mstackrealign  -c search_pairs.cpp -o search_pairs.o
"C:/rtools40/mingw32/bin/"g++  -std=gnu++11 -I"D:/biocbuild/bbs-3.14-bioc/R/include" -DNDEBUG  -I'D:/biocbuild/bbs-3.14-bioc/R/library/Rcpp/include'   -I"C:/extsoft/include"     -O2 -Wall  -mfpmath=sse -msse2 -mstackrealign  -c subsampleLoop.cpp -o subsampleLoop.o
C:/rtools40/mingw32/bin/g++ -shared -s -static-libgcc -o clusterExperiment.dll tmp.def RcppExports.o search_pairs.o subsampleLoop.o -LD:/biocbuild/bbs-3.14-bioc/R/bin/i386 -lRlapack -LD:/biocbuild/bbs-3.14-bioc/R/bin/i386 -lRblas -lgfortran -lm -lquadmath -LC:/extsoft/lib/i386 -LC:/extsoft/lib -LD:/biocbuild/bbs-3.14-bioc/R/bin/i386 -lR
installing to D:/biocbuild/bbs-3.14-bioc/meat/clusterExperiment.buildbin-libdir/00LOCK-clusterExperiment/00new/clusterExperiment/libs/i386
** R
** data
** inst
** byte-compile and prepare package for lazy loading
Found more than one class "Annotated" in cache; using the first, from namespace 'S4Vectors'
Also defined by 'RNeXML'
Found more than one class "Annotated" in cache; using the first, from namespace 'S4Vectors'
Also defined by 'RNeXML'
Found more than one class "Annotated" in cache; using the first, from namespace 'S4Vectors'
Also defined by 'RNeXML'
Found more than one class "Annotated" in cache; using the first, from namespace 'S4Vectors'
Also defined by 'RNeXML'
Found more than one class "Annotated" in cache; using the first, from namespace 'S4Vectors'
Also defined by 'RNeXML'
** help
*** installing help indices
  converting help for package 'clusterExperiment'
    finding HTML links ... done
    ClusterExperiment-class                 html  
    ClusterExperiment-methods               html  
    ClusterFunction-class                   html  
    ClusterFunction-methods                 html  
    RSEC                                    html  
    addClusterings                          html  
    assignUnassigned                        html  
    builtInClusteringFunctions              html  
    clusterContrasts                        html  
    finding level-2 HTML links ... done

    clusterDendrogram                       html  
    clusterExperiment-deprecated            html  
    clusterMany                             html  
    clusterSingle                           html  
    fluidigmData                            html  
    getBestFeatures                         html  
    getClusterIndex                         html  
    getClusterManyParams                    html  
    mainClustering                          html  
    makeConsensus                           html  
    makeDendrogram                          html  
    mergeClusters                           html  
    numericalAsCharacter                    html  
    plotBarplot                             html  
    plotClusters                            html  
    plotClustersTable                       html  
    plotClustersWorkflow                    html  
    plotContrastHeatmap                     html  
    plotDendrogram                          html  
    plotFeatureBoxplot                      html  
    plotFeatureScatter                      html  
    plotHeatmap                             html  
    plotReducedDims                         html  
    plottingFunctions                       html  
    reduceFunctions                         html  
    renameClusters                          html  
    rsecFluidigm                            html  
    search_pairs                            html  
    seqCluster                              html  
    simData                                 html  
    subsampleClustering                     html  
    subset                                  html  
    transformData                           html  
    updateObject                            html  
    workflowClusters                        html  
** building package indices
** installing vignettes
** testing if installed package can be loaded from temporary location
** testing if installed package can be loaded from final location
** testing if installed package keeps a record of temporary installation path

install for x64

* installing *source* package 'clusterExperiment' ...
** libs
"C:/rtools40/mingw64/bin/"g++  -std=gnu++11 -I"D:/biocbuild/bbs-3.14-bioc/R/include" -DNDEBUG  -I'D:/biocbuild/bbs-3.14-bioc/R/library/Rcpp/include'   -I"C:/extsoft/include"     -O2 -Wall  -mfpmath=sse -msse2 -mstackrealign  -c RcppExports.cpp -o RcppExports.o
"C:/rtools40/mingw64/bin/"g++  -std=gnu++11 -I"D:/biocbuild/bbs-3.14-bioc/R/include" -DNDEBUG  -I'D:/biocbuild/bbs-3.14-bioc/R/library/Rcpp/include'   -I"C:/extsoft/include"     -O2 -Wall  -mfpmath=sse -msse2 -mstackrealign  -c search_pairs.cpp -o search_pairs.o
"C:/rtools40/mingw64/bin/"g++  -std=gnu++11 -I"D:/biocbuild/bbs-3.14-bioc/R/include" -DNDEBUG  -I'D:/biocbuild/bbs-3.14-bioc/R/library/Rcpp/include'   -I"C:/extsoft/include"     -O2 -Wall  -mfpmath=sse -msse2 -mstackrealign  -c subsampleLoop.cpp -o subsampleLoop.o
C:/rtools40/mingw64/bin/g++ -shared -s -static-libgcc -o clusterExperiment.dll tmp.def RcppExports.o search_pairs.o subsampleLoop.o -LD:/biocbuild/bbs-3.14-bioc/R/bin/x64 -lRlapack -LD:/biocbuild/bbs-3.14-bioc/R/bin/x64 -lRblas -lgfortran -lm -lquadmath -LC:/extsoft/lib/x64 -LC:/extsoft/lib -LD:/biocbuild/bbs-3.14-bioc/R/bin/x64 -lR
installing to D:/biocbuild/bbs-3.14-bioc/meat/clusterExperiment.buildbin-libdir/clusterExperiment/libs/x64
** testing if installed package can be loaded
* MD5 sums
packaged installation of 'clusterExperiment' as clusterExperiment_2.13.2.zip
* DONE (clusterExperiment)