Name | Last modified | Size | Description | |
---|---|---|---|---|
Parent Directory | - | |||
install-out.txt | 27-Jul-2024 00:39 | 2.8K | ||
install-summary.dcf | 27-Jul-2024 00:39 | 289 | ||
buildsrc-out.txt | 27-Jul-2024 00:39 | 1.0K | ||
buildsrc-summary.dcf | 27-Jul-2024 00:39 | 493 | ||
checksrc-out.txt | 27-Jul-2024 00:39 | 16K | ||
checksrc-summary.dcf | 27-Jul-2024 00:39 | 494 | ||
buildbin-out.txt | 27-Jul-2024 00:39 | 3.0K | ||
buildbin-summary.dcf | 27-Jul-2024 00:39 | 576 | ||