Name | Last modified | Size | Description | |
---|---|---|---|---|
Parent Directory | - | |||
install-summary.dcf | 28-Jul-2024 00:40 | 290 | ||
install-out.txt | 28-Jul-2024 00:40 | 3.2K | ||
checksrc-summary.dcf | 28-Jul-2024 00:40 | 491 | ||
checksrc-out.txt | 28-Jul-2024 00:40 | 15K | ||
buildsrc-summary.dcf | 28-Jul-2024 00:40 | 458 | ||
buildsrc-out.txt | 28-Jul-2024 00:40 | 949 | ||
buildbin-summary.dcf | 28-Jul-2024 00:40 | 590 | ||
buildbin-out.txt | 28-Jul-2024 00:40 | 7.0K | ||