Index of /checkResults/devel/bioc-LATEST/clusterExperiment/raw-results/lconway

[ICO]NameLast modifiedSizeDescription

[DIR]Parent Directory  -  
[TXT]buildbin-out.txt18-Jul-2024 00:40 7.0K 
[   ]buildbin-summary.dcf18-Jul-2024 00:40 590  
[TXT]buildsrc-out.txt18-Jul-2024 00:40 949  
[   ]buildsrc-summary.dcf18-Jul-2024 00:40 458  
[TXT]checksrc-out.txt18-Jul-2024 00:40 15K 
[   ]checksrc-summary.dcf18-Jul-2024 00:40 491  
[TXT]install-out.txt18-Jul-2024 00:40 3.2K 
[   ]install-summary.dcf18-Jul-2024 00:40 290