Name | Last modified | Size | Description | |
---|---|---|---|---|
Parent Directory | - | |||
checksrc-summary.dcf | 09-Jul-2024 00:44 | 452 | ||
checksrc-out.txt | 09-Jul-2024 00:44 | 15K | ||
buildsrc-summary.dcf | 09-Jul-2024 00:44 | 436 | ||
buildsrc-out.txt | 09-Jul-2024 00:44 | 927 | ||
install-summary.dcf | 07-Jul-2024 00:44 | 268 | ||
install-out.txt | 07-Jul-2024 00:44 | 2.5K | ||