Index of /checkResults/devel/bioc-LATEST/clusterExperiment/raw-results/kjohnson3

[ICO]NameLast modifiedSizeDescription

[DIR]Parent Directory  -  
[TXT]buildbin-out.txt18-Jul-2024 00:42 7.0K 
[   ]buildbin-summary.dcf18-Jul-2024 00:42 590  
[TXT]buildsrc-out.txt18-Jul-2024 00:42 949  
[   ]buildsrc-summary.dcf18-Jul-2024 00:42 458  
[TXT]checksrc-out.txt18-Jul-2024 00:42 15K 
[   ]checksrc-summary.dcf18-Jul-2024 00:42 490  
[TXT]install-out.txt18-Jul-2024 00:42 3.2K 
[   ]install-summary.dcf18-Jul-2024 00:42 289