Name | Last modified | Size | Description | |
---|---|---|---|---|
Parent Directory | - | |||
buildbin-out.txt | 17-Jul-2024 00:40 | 1.1K | ||
buildbin-summary.dcf | 17-Jul-2024 00:40 | 502 | ||
buildsrc-out.txt | 17-Jul-2024 00:40 | 830 | ||
buildsrc-summary.dcf | 17-Jul-2024 00:40 | 444 | ||
checksrc-out.txt | 17-Jul-2024 00:40 | 4.7K | ||
checksrc-summary.dcf | 17-Jul-2024 00:40 | 452 | ||
install-out.txt | 17-Jul-2024 00:40 | 1.0K | ||
install-summary.dcf | 17-Jul-2024 00:40 | 268 | ||