Index of /checkResults/devel/bioc-LATEST/clst/raw-results/nebbiolo2

[ICO]NameLast modifiedSizeDescription

[DIR]Parent Directory  -  
[TXT]buildsrc-out.txt19-Jun-2024 00:51 818  
[   ]buildsrc-summary.dcf19-Jun-2024 00:51 414  
[TXT]checksrc-out.txt19-Jun-2024 00:51 4.6K 
[   ]checksrc-summary.dcf19-Jun-2024 00:51 407  
[TXT]install-out.txt19-Jun-2024 00:51 1.0K 
[   ]install-summary.dcf19-Jun-2024 00:51 252