Name | Last modified | Size | Description | |
---|---|---|---|---|
Parent Directory | - | |||
buildbin-out.txt | 27-Jul-2024 00:40 | 1.2K | ||
buildbin-summary.dcf | 27-Jul-2024 00:40 | 511 | ||
buildsrc-out.txt | 27-Jul-2024 00:40 | 804 | ||
buildsrc-summary.dcf | 27-Jul-2024 00:40 | 418 | ||
checksrc-out.txt | 27-Jul-2024 00:40 | 4.8K | ||
checksrc-summary.dcf | 27-Jul-2024 00:40 | 437 | ||
install-out.txt | 27-Jul-2024 00:40 | 1.0K | ||
install-summary.dcf | 27-Jul-2024 00:40 | 263 | ||