Index of /checkResults/devel/bioc-LATEST/clst/raw-results/kunpeng2

[ICO]NameLast modifiedSizeDescription

[DIR]Parent Directory  -  
[   ]install-summary.dcf07-Jul-2024 00:44 240  
[TXT]install-out.txt07-Jul-2024 00:44 960  
[   ]checksrc-summary.dcf09-Jul-2024 00:44 398  
[TXT]checksrc-out.txt09-Jul-2024 00:44 4.8K 
[   ]buildsrc-summary.dcf09-Jul-2024 00:44 396  
[TXT]buildsrc-out.txt09-Jul-2024 00:44 782