Name | Last modified | Size | Description | |
---|---|---|---|---|
Parent Directory | - | |||
install-summary.dcf | 27-Jul-2024 00:42 | 262 | ||
buildsrc-summary.dcf | 27-Jul-2024 00:42 | 417 | ||
checksrc-summary.dcf | 27-Jul-2024 00:42 | 437 | ||
buildbin-summary.dcf | 27-Jul-2024 00:42 | 511 | ||
buildsrc-out.txt | 27-Jul-2024 00:42 | 804 | ||
install-out.txt | 27-Jul-2024 00:42 | 1.0K | ||
buildbin-out.txt | 27-Jul-2024 00:42 | 1.2K | ||
checksrc-out.txt | 27-Jul-2024 00:42 | 4.7K | ||