Index of /checkResults/devel/bioc-LATEST/cliqueMS/raw-results/lconway
Name
Last modified
Size
Description
Parent Directory
-
buildsrc-out.txt
29-Mar-2024 00:38
912
buildsrc-summary.dcf
29-Mar-2024 00:38
344
install-out.txt
29-Mar-2024 00:38
700
install-summary.dcf
29-Mar-2024 00:38
273