![]() | Name | Last modified | Size | Description |
---|---|---|---|---|
![]() | Parent Directory | - | ||
![]() | buildbin-out.txt | 04-Oct-2023 00:37 | 1.1K | |
![]() | buildbin-summary.dcf | 04-Oct-2023 00:37 | 536 | |
![]() | buildsrc-out.txt | 04-Oct-2023 00:37 | 895 | |
![]() | buildsrc-summary.dcf | 04-Oct-2023 00:37 | 464 | |
![]() | checksrc-out.txt | 04-Oct-2023 00:37 | 3.1K | |
![]() | checksrc-summary.dcf | 04-Oct-2023 00:37 | 461 | |
![]() | install-out.txt | 04-Oct-2023 00:37 | 1.0K | |
![]() | install-summary.dcf | 04-Oct-2023 00:37 | 275 | |