Index of /checkResults/devel/bioc-LATEST/cliProfiler/raw-results/nebbiolo2

[ICO]NameLast modifiedSizeDescription

[DIR]Parent Directory  -  
[TXT]buildsrc-out.txt25-Jun-2022 00:05 861  
[   ]buildsrc-summary.dcf25-Jun-2022 00:05 427  
[TXT]checksrc-out.txt25-Jun-2022 00:05 3.0K 
[   ]checksrc-summary.dcf25-Jun-2022 00:05 438  
[TXT]install-out.txt25-Jun-2022 00:05 959  
[   ]install-summary.dcf25-Jun-2022 00:05 266