Index of /checkResults/devel/bioc-LATEST/cliProfiler/raw-results/lconway

[ICO]NameLast modifiedSizeDescription

[DIR]Parent Directory  -  
[TXT]buildbin-out.txt05-Jul-2022 00:07 1.2K 
[   ]buildbin-summary.dcf05-Jul-2022 00:07 551  
[TXT]buildsrc-out.txt05-Jul-2022 00:07 871  
[   ]buildsrc-summary.dcf05-Jul-2022 00:07 437  
[TXT]checksrc-out.txt05-Jul-2022 00:07 3.1K 
[   ]checksrc-summary.dcf05-Jul-2022 00:07 458  
[TXT]install-out.txt05-Jul-2022 00:07 1.0K 
[   ]install-summary.dcf05-Jul-2022 00:07 276