Index of /checkResults/devel/bioc-LATEST/cleaver/raw-results/merida1

[ICO]NameLast modifiedSizeDescription

[DIR]Parent Directory  -  
[TXT]buildbin-out.txt27-May-2024 00:35 1.1K 
[   ]buildbin-summary.dcf27-May-2024 00:35 528  
[TXT]buildsrc-out.txt27-May-2024 00:35 816  
[   ]buildsrc-summary.dcf27-May-2024 00:35 427  
[TXT]checksrc-out.txt27-May-2024 00:35 3.3K 
[   ]checksrc-summary.dcf27-May-2024 00:35 444  
[TXT]install-out.txt27-May-2024 00:35 1.0K 
[   ]install-summary.dcf27-May-2024 00:35 269