Index of /checkResults/devel/bioc-LATEST/cleaver/raw-results/kunpeng2

[ICO]NameLast modifiedSizeDescription

[DIR]Parent Directory  -  
[TXT]install-out.txt16-May-2024 02:46 966  
[   ]install-summary.dcf16-May-2024 02:46 270  
[TXT]buildsrc-out.txt16-May-2024 02:46 817  
[   ]buildsrc-summary.dcf16-May-2024 02:46 428  
[TXT]checksrc-out.txt16-May-2024 02:46 3.3K 
[   ]checksrc-summary.dcf16-May-2024 02:46 450