Back to Multiple platform build/check report for BioC 3.17
AB[C]DEFGHIJKLMNOPQRSTUVWXYZ

This page was generated on 2023-01-26 11:07:27 -0500 (Thu, 26 Jan 2023).

HostnameOSArch (*)R versionInstalled pkgs
nebbiolo1Linux (Ubuntu 22.04.1 LTS)x86_64R Under development (unstable) (2023-01-10 r83596) -- "Unsuffered Consequences" 4464
palomino3Windows Server 2022 Datacenterx64R Under development (unstable) (2023-01-10 r83596 ucrt) -- "Unsuffered Consequences" 4245
merida1macOS 10.14.6 Mojavex86_64R Under development (unstable) (2023-01-10 r83596) -- "Unsuffered Consequences" 4268
Click on any hostname to see more info about the system (e.g. compilers)      (*) as reported by 'uname -p', except on Windows and Mac OS X

BUILD results for cleaver on palomino3


To the developers/maintainers of the cleaver package:
- Please allow up to 24 hours (and sometimes 48 hours) for your latest push to git@git.bioconductor.org:packages/cleaver.git to
reflect on this report. See How and When does the builder pull? When will my changes propagate? for more information.
- Make sure to use the following settings in order to reproduce any error or warning you see on this page.

raw results

Package 332/2162HostnameOS / ArchINSTALLBUILDCHECKBUILD BIN
cleaver 1.37.0  (landing page)
Sebastian Gibb
Snapshot Date: 2023-01-25 14:00:21 -0500 (Wed, 25 Jan 2023)
git_url: https://git.bioconductor.org/packages/cleaver
git_branch: master
git_last_commit: a1b388b
git_last_commit_date: 2022-12-21 02:39:46 -0500 (Wed, 21 Dec 2022)
nebbiolo1Linux (Ubuntu 22.04.1 LTS) / x86_64  OK    OK    OK  UNNEEDED, same version is already published
palomino3Windows Server 2022 Datacenter / x64  OK    OK    OK    OK  UNNEEDED, same version is already published
merida1macOS 10.14.6 Mojave / x86_64  OK    OK    OK    OK  UNNEEDED, same version is already published

Summary

Package: cleaver
Version: 1.37.0
Command: chmod a+r cleaver -R && F:\biocbuild\bbs-3.17-bioc\R\bin\R.exe CMD build --keep-empty-dirs --no-resave-data cleaver
StartedAt: 2023-01-25 17:52:40 -0500 (Wed, 25 Jan 2023)
EndedAt: 2023-01-25 17:53:03 -0500 (Wed, 25 Jan 2023)
EllapsedTime: 22.3 seconds
RetCode: 0
Status:   OK  
PackageFile: cleaver_1.37.0.tar.gz
PackageFileSize: 305.5 KiB

Command output

##############################################################################
##############################################################################
###
### Running command:
###
###   chmod a+r cleaver -R && F:\biocbuild\bbs-3.17-bioc\R\bin\R.exe CMD build --keep-empty-dirs --no-resave-data cleaver
###
##############################################################################
##############################################################################


* checking for file 'cleaver/DESCRIPTION' ... OK
* preparing 'cleaver':
* checking DESCRIPTION meta-information ... OK
* installing the package to build vignettes
* creating vignettes ... OK
* checking for LF line-endings in source and make files and shell scripts
* checking for empty or unneeded directories
* building 'cleaver_1.37.0.tar.gz'