Back to Multiple platform build/check report for BioC 3.17:   simplified   long
AB[C]DEFGHIJKLMNOPQRSTUVWXYZ

This page was generated on 2023-02-06 11:05:03 -0500 (Mon, 06 Feb 2023).

HostnameOSArch (*)R versionInstalled pkgs
nebbiolo1Linux (Ubuntu 22.04.1 LTS)x86_64R Under development (unstable) (2023-01-10 r83596) -- "Unsuffered Consequences" 4483
palomino3Windows Server 2022 Datacenterx64R Under development (unstable) (2023-01-10 r83596 ucrt) -- "Unsuffered Consequences" 4249
merida1macOS 10.14.6 Mojavex86_64R Under development (unstable) (2023-01-10 r83596) -- "Unsuffered Consequences" 4272
Click on any hostname to see more info about the system (e.g. compilers)      (*) as reported by 'uname -p', except on Windows and Mac OS X

BUILD results for cleanUpdTSeq on nebbiolo1


To the developers/maintainers of the cleanUpdTSeq package:
- Please allow up to 24 hours (and sometimes 48 hours) for your latest push to git@git.bioconductor.org:packages/cleanUpdTSeq.git to
reflect on this report. See How and When does the builder pull? When will my changes propagate? for more information.
- Make sure to use the following settings in order to reproduce any error or warning you see on this page.

raw results

Package 332/2164HostnameOS / ArchINSTALLBUILDCHECKBUILD BIN
cleanUpdTSeq 1.37.0  (landing page)
Jianhong Ou ; Lihua Julie Zhu
Snapshot Date: 2023-02-05 14:00:11 -0500 (Sun, 05 Feb 2023)
git_url: https://git.bioconductor.org/packages/cleanUpdTSeq
git_branch: master
git_last_commit: 393328d
git_last_commit_date: 2022-11-01 11:08:25 -0500 (Tue, 01 Nov 2022)
nebbiolo1Linux (Ubuntu 22.04.1 LTS) / x86_64  OK    OK    OK  UNNEEDED, same version is already published
palomino3Windows Server 2022 Datacenter / x64  OK    OK    OK    OK  UNNEEDED, same version is already published
merida1macOS 10.14.6 Mojave / x86_64  OK    OK    OK    OK  UNNEEDED, same version is already published

Summary

Package: cleanUpdTSeq
Version: 1.37.0
Command: /home/biocbuild/bbs-3.17-bioc/R/bin/R CMD build --keep-empty-dirs --no-resave-data cleanUpdTSeq
StartedAt: 2023-02-05 16:06:21 -0500 (Sun, 05 Feb 2023)
EndedAt: 2023-02-05 16:07:59 -0500 (Sun, 05 Feb 2023)
EllapsedTime: 97.7 seconds
RetCode: 0
Status:   OK  
PackageFile: cleanUpdTSeq_1.37.0.tar.gz
PackageFileSize: 4.008 MiB

Command output

##############################################################################
##############################################################################
###
### Running command:
###
###   /home/biocbuild/bbs-3.17-bioc/R/bin/R CMD build --keep-empty-dirs --no-resave-data cleanUpdTSeq
###
##############################################################################
##############################################################################


* checking for file ‘cleanUpdTSeq/DESCRIPTION’ ... OK
* preparing ‘cleanUpdTSeq’:
* checking DESCRIPTION meta-information ... OK
* installing the package to build vignettes
* creating vignettes ... OK
* checking for LF line-endings in source and make files and shell scripts
* checking for empty or unneeded directories
* building ‘cleanUpdTSeq_1.37.0.tar.gz’