Name | Last modified | Size | Description | |
---|---|---|---|---|
Parent Directory | - | |||
buildbin-out.txt | 12-Jun-2024 04:42 | 4.5K | ||
buildbin-summary.dcf | 12-Jun-2024 04:42 | 530 | ||
buildsrc-out.txt | 12-Jun-2024 04:42 | 846 | ||
buildsrc-summary.dcf | 12-Jun-2024 04:42 | 427 | ||
checksrc-out.txt | 12-Jun-2024 04:42 | 5.0K | ||
checksrc-summary.dcf | 12-Jun-2024 04:42 | 449 | ||
install-out.txt | 12-Jun-2024 04:42 | 2.4K | ||
install-summary.dcf | 12-Jun-2024 04:42 | 269 | ||