Back to Multiple platform build/check report for BioC 3.14
AB[C]DEFGHIJKLMNOPQRSTUVWXYZ

This page was generated on 2021-10-22 12:04:21 -0400 (Fri, 22 Oct 2021).

INSTALL results for circRNAprofiler on riesling1

To the developers/maintainers of the circRNAprofiler package:
- Please allow up to 24 hours (and sometimes 48 hours) for your latest push to git@git.bioconductor.org:packages/circRNAprofiler.git to
reflect on this report. See How and When does the builder pull? When will my changes propagate? here for more information.
- Make sure to use the following settings in order to reproduce any error or warning you see on this page.

raw results

Package 318/2075HostnameOS / ArchINSTALLBUILDCHECKBUILD BIN
circRNAprofiler 1.7.5  (landing page)
Simona Aufiero
Snapshot Date: 2021-10-21 14:50:08 -0400 (Thu, 21 Oct 2021)
git_url: https://git.bioconductor.org/packages/circRNAprofiler
git_branch: master
git_last_commit: 66e3c56
git_last_commit_date: 2021-09-27 06:32:17 -0400 (Mon, 27 Sep 2021)
nebbiolo2Linux (Ubuntu 20.04.2 LTS) / x86_64  OK    OK    OK  UNNEEDED, same version is already published
riesling1Windows Server 2019 Standard / x64  OK    OK    OK    OK  UNNEEDED, same version is already published
merida1macOS 10.14.6 Mojave / x86_64  OK    OK    OK    OK  UNNEEDED, same version is already published

Summary

Package: circRNAprofiler
Version: 1.7.5
Command: C:\cygwin\bin\curl.exe -O http://155.52.207.166/BBS/3.14/bioc/src/contrib/circRNAprofiler_1.7.5.tar.gz && rm -rf circRNAprofiler.buildbin-libdir && mkdir circRNAprofiler.buildbin-libdir && D:\biocbuild\bbs-3.14-bioc\R\bin\R.exe CMD INSTALL --merge-multiarch --build --library=circRNAprofiler.buildbin-libdir circRNAprofiler_1.7.5.tar.gz && D:\biocbuild\bbs-3.14-bioc\R\bin\R.exe CMD INSTALL circRNAprofiler_1.7.5.zip && rm circRNAprofiler_1.7.5.tar.gz circRNAprofiler_1.7.5.zip
StartedAt: 2021-10-21 18:55:42 -0400 (Thu, 21 Oct 2021)
EndedAt: 2021-10-21 18:58:32 -0400 (Thu, 21 Oct 2021)
EllapsedTime: 170.6 seconds
RetCode: 0
Status:   OK  

Command output

##############################################################################
##############################################################################
###
### Running command:
###
###   C:\cygwin\bin\curl.exe -O http://155.52.207.166/BBS/3.14/bioc/src/contrib/circRNAprofiler_1.7.5.tar.gz && rm -rf circRNAprofiler.buildbin-libdir && mkdir circRNAprofiler.buildbin-libdir && D:\biocbuild\bbs-3.14-bioc\R\bin\R.exe CMD INSTALL --merge-multiarch --build --library=circRNAprofiler.buildbin-libdir circRNAprofiler_1.7.5.tar.gz && D:\biocbuild\bbs-3.14-bioc\R\bin\R.exe CMD INSTALL circRNAprofiler_1.7.5.zip && rm circRNAprofiler_1.7.5.tar.gz circRNAprofiler_1.7.5.zip
###
##############################################################################
##############################################################################


  % Total    % Received % Xferd  Average Speed   Time    Time     Time  Current
                                 Dload  Upload   Total   Spent    Left  Speed

  0     0    0     0    0     0      0      0 --:--:-- --:--:-- --:--:--     0
 10 3616k   10  371k    0     0  1282k      0  0:00:02 --:--:--  0:00:02 1277k
100 3616k  100 3616k    0     0  3583k      0  0:00:01  0:00:01 --:--:-- 3583k

install for i386

* installing *source* package 'circRNAprofiler' ...
** using staged installation
** R
** data
** inst
** byte-compile and prepare package for lazy loading
** help
*** installing help indices
  converting help for package 'circRNAprofiler'
    finding HTML links ... done
    ahChainFiles                            html  
    ahRepeatMasker                          html  
    annotateBSJs                            html  
    annotateRepeats                         html  
    finding level-2 HTML links ... done

    annotateSNPsGWAS                        html  
    attractSpecies                          html  
    backSplicedJunctions                    html  
    checkProjectFolder                      html  
    filterCirc                              html  
    formatGTF                               html  
    getBackSplicedJunctions                 html  
    getCircSeqs                             html  
    getDeseqRes                             html  
    getDetectionTools                       html  
    getEdgerRes                             html  
    getMiRsites                             html  
    getMotifs                               html  
    getRandomBSJunctions                    html  
    getRegexPattern                         html  
    getSeqsAcrossBSJs                       html  
    getSeqsFromGRs                          html  
    gtf                                     html  
    gwasTraits                              html  
    importCircExplorer2                     html  
    importCircMarker                        html  
    importKnife                             html  
    importMapSplice                         html  
    importNCLscan                           html  
    importOther                             html  
    importUroborus                          html  
    initCircRNAprofiler                     html  
    iupac                                   html  
    liftBSJcoords                           html  
    memeDB                                  html  
    mergeBSJunctions                        html  
    mergeMotifs                             html  
    mergedBSJunctions                       html  
    miRspeciesCodes                         html  
    plotExBetweenBSEs                       html  
    plotExPosition                          html  
    plotHostGenes                           html  
    plotLenBSEs                             html  
    plotLenIntrons                          html  
    plotMiR                                 html  
    plotMotifs                              html  
    plotTotExons                            html  
    rearrangeMiRres                         html  
    volcanoPlot                             html  
** building package indices
** installing vignettes
** testing if installed package can be loaded from temporary location
** testing if installed package can be loaded from final location
** testing if installed package keeps a record of temporary installation path

install for x64

* installing *source* package 'circRNAprofiler' ...
** testing if installed package can be loaded
* MD5 sums
packaged installation of 'circRNAprofiler' as circRNAprofiler_1.7.5.zip
* DONE (circRNAprofiler)
* installing to library 'D:/biocbuild/bbs-3.14-bioc/R/library'
package 'circRNAprofiler' successfully unpacked and MD5 sums checked