Index of /checkResults/devel/bioc-LATEST/circRNAprofiler/raw-results/kjohnson

[ICO]NameLast modifiedSizeDescription

[DIR]Parent Directory  -  
[TXT]buildsrc-out.txt08-Jul-2022 00:10 1.0K 
[   ]buildsrc-summary.dcf08-Jul-2022 00:10 358  
[TXT]install-out.txt12-Jul-2022 00:06 790  
[   ]install-summary.dcf12-Jul-2022 00:06 287