Index of /checkResults/devel/bioc-LATEST/cicero/raw-results/lconway

[ICO]NameLast modifiedSizeDescription

[DIR]Parent Directory  -  
[   ]install-summary.dcf20-Aug-2022 01:11 267  
[TXT]install-out.txt20-Aug-2022 01:11 1.0K 
[   ]checksrc-summary.dcf20-Aug-2022 01:11 440  
[TXT]checksrc-out.txt20-Aug-2022 01:11 4.4K 
[   ]buildsrc-summary.dcf20-Aug-2022 01:11 425  
[TXT]buildsrc-out.txt20-Aug-2022 01:11 812  
[   ]buildbin-summary.dcf20-Aug-2022 01:11 524  
[TXT]buildbin-out.txt20-Aug-2022 01:11 1.2K