Back to Multiple platform build/check report for BioC 3.15
AB[C]DEFGHIJKLMNOPQRSTUVWXYZ

This page was generated on 2022-01-21 11:07:13 -0500 (Fri, 21 Jan 2022).

HostnameOSArch (*)R versionInstalled pkgs
nebbiolo1Linux (Ubuntu 20.04.4 LTS)x86_64R Under development (unstable) (2022-01-05 r81451) -- "Unsuffered Consequences" 4163
riesling1Windows Server 2019 Standardx64R Under development (unstable) (2021-11-21 r81221) -- "Unsuffered Consequences" 4058
palomino3Windows Server 2022 Datacenterx64R Under development (unstable) (2021-12-21 r81400 ucrt) -- "Unsuffered Consequences" 4000
merida1macOS 10.14.6 Mojavex86_64R Under development (unstable) (2022-01-05 r81451) -- "Unsuffered Consequences" 4117
Click on any hostname to see more info about the system (e.g. compilers)      (*) as reported by 'uname -p', except on Windows and Mac OS X

INSTALL results for chromswitch on riesling1


To the developers/maintainers of the chromswitch package:
- Please allow up to 24 hours (and sometimes 48 hours) for your latest push to git@git.bioconductor.org:packages/chromswitch.git to
reflect on this report. See How and When does the builder pull? When will my changes propagate? here for more information.
- Make sure to use the following settings in order to reproduce any error or warning you see on this page.

raw results

Package 312/2075HostnameOS / ArchINSTALLBUILDCHECKBUILD BIN
chromswitch 1.17.0  (landing page)
Selin Jessa
Snapshot Date: 2022-01-20 13:55:17 -0500 (Thu, 20 Jan 2022)
git_url: https://git.bioconductor.org/packages/chromswitch
git_branch: master
git_last_commit: 78d3895
git_last_commit_date: 2021-10-26 12:39:46 -0500 (Tue, 26 Oct 2021)
nebbiolo1Linux (Ubuntu 20.04.4 LTS) / x86_64  OK    OK    OK  UNNEEDED, same version is already published
riesling1Windows Server 2019 Standard / x64  OK    OK    OK    OK  
palomino3Windows Server 2022 Datacenter / x64  OK    OK    OK    OK  NO, package depends on 'GenomicRanges' which is not available
merida1macOS 10.14.6 Mojave / x86_64  OK    OK    OK    OK  UNNEEDED, same version is already published

Summary

Package: chromswitch
Version: 1.17.0
Command: D:\biocbuild\bbs-3.15-bioc\R\bin\R.exe CMD INSTALL chromswitch
StartedAt: 2022-01-20 15:58:30 -0500 (Thu, 20 Jan 2022)
EndedAt: 2022-01-20 15:59:47 -0500 (Thu, 20 Jan 2022)
EllapsedTime: 77.1 seconds
RetCode: 0
Status:   OK  

Command output

##############################################################################
##############################################################################
###
### Running command:
###
###   D:\biocbuild\bbs-3.15-bioc\R\bin\R.exe CMD INSTALL chromswitch
###
##############################################################################
##############################################################################


* installing to library 'D:/biocbuild/bbs-3.15-bioc/R/library'
* installing *source* package 'chromswitch' ...
** using staged installation
** R
** data
*** moving datasets to lazyload DB
** inst
** byte-compile and prepare package for lazy loading
** help
*** installing help indices
  converting help for package 'chromswitch'
    finding HTML links ... done
    GRangesToCoord                          html  
    H3K4me3                                 html  
    LocalPeaks-class                        html  
    NMI                                     html  
    binarizePeaks                           html  
    callBinary                              html  
    callSummary                             html  
    chromswitch                             html  
    classEntropy                            html  
    cluster                                 html  
    clusterEntropy                          html  
    completeness                            html  
    conditionalClassEntropy                 html  
    conditionalClusterEntropy               html  
    coordToGRanges                          html  
    filterPeaks                             html  
    homogeneity                             html  
    makeBrowserCoord                        html  
    normalizePeaks                          html  
    pReciprocalOverlap                      html  
    purity                                  html  
    readNarrowPeak                          html  
    reducePeaks                             html  
    retrievePeaks                           html  
    summarizePeaks                          html  
    vMeasure                                html  
    winsorNorm                              html  
** building package indices
** installing vignettes
** testing if installed package can be loaded from temporary location
** testing if installed package can be loaded from final location
** testing if installed package keeps a record of temporary installation path
* DONE (chromswitch)
Making 'packages.html' ... done