Index of /checkResults/devel/bioc-LATEST/chromswitch/raw-results

[ICO]NameLast modifiedSizeDescription

[DIR]Parent Directory  -  
[   ]info.dcf21-May-2022 00:07 272  
[DIR]lconway/21-May-2022 00:07 -  
[DIR]nebbiolo2/21-May-2022 00:05 -  
[DIR]palomino4/21-May-2022 00:06 -