Name | Last modified | Size | Description | |
---|---|---|---|---|
Parent Directory | - | |||
checksrc-out.txt | 22-Mar-2024 00:39 | 8.2K | ||
checksrc-summary.dcf | 22-Mar-2024 00:39 | 456 | ||
buildbin-out.txt | 22-Mar-2024 00:39 | 4.7K | ||
buildbin-summary.dcf | 22-Mar-2024 00:39 | 542 | ||
install-out.txt | 29-Mar-2024 00:38 | 2.6K | ||
install-summary.dcf | 29-Mar-2024 00:38 | 273 | ||
buildsrc-out.txt | 29-Mar-2024 00:38 | 2.2K | ||
buildsrc-summary.dcf | 29-Mar-2024 00:38 | 348 | ||