Index of /checkResults/devel/bioc-LATEST/chromstaR/raw-results/lconway

[ICO]NameLast modifiedSizeDescription

[DIR]Parent Directory  -  
[TXT]buildbin-out.txt30-Jun-2022 00:04 3.3K 
[   ]buildbin-summary.dcf30-Jun-2022 00:04 542  
[TXT]buildsrc-out.txt02-Jul-2022 00:07 17K 
[   ]buildsrc-summary.dcf02-Jul-2022 00:07 348  
[TXT]checksrc-out.txt30-Jun-2022 00:04 4.4K 
[   ]checksrc-summary.dcf30-Jun-2022 00:04 452  
[TXT]install-out.txt02-Jul-2022 00:07 2.4K 
[   ]install-summary.dcf02-Jul-2022 00:07 273