Back to Multiple platform build/check report for BioC 3.15
AB[C]DEFGHIJKLMNOPQRSTUVWXYZ

This page was generated on 2022-01-24 11:07:01 -0500 (Mon, 24 Jan 2022).

HostnameOSArch (*)R versionInstalled pkgs
nebbiolo1Linux (Ubuntu 20.04.4 LTS)x86_64R Under development (unstable) (2022-01-05 r81451) -- "Unsuffered Consequences" 4163
riesling1Windows Server 2019 Standardx64R Under development (unstable) (2021-11-21 r81221) -- "Unsuffered Consequences" 4058
palomino3Windows Server 2022 Datacenterx64R Under development (unstable) (2021-12-21 r81400 ucrt) -- "Unsuffered Consequences" 4000
merida1macOS 10.14.6 Mojavex86_64R Under development (unstable) (2022-01-05 r81451) -- "Unsuffered Consequences" 4117
Click on any hostname to see more info about the system (e.g. compilers)      (*) as reported by 'uname -p', except on Windows and Mac OS X

BUILD BIN results for chromVAR on riesling1


To the developers/maintainers of the chromVAR package:
- Please allow up to 24 hours (and sometimes 48 hours) for your latest push to git@git.bioconductor.org:packages/chromVAR.git to
reflect on this report. See How and When does the builder pull? When will my changes propagate? here for more information.
- Make sure to use the following settings in order to reproduce any error or warning you see on this page.

raw results

Package 313/2075HostnameOS / ArchINSTALLBUILDCHECKBUILD BIN
chromVAR 1.17.1  (landing page)
Alicia Schep
Snapshot Date: 2022-01-23 13:55:15 -0500 (Sun, 23 Jan 2022)
git_url: https://git.bioconductor.org/packages/chromVAR
git_branch: master
git_last_commit: d00cba8
git_last_commit_date: 2021-11-20 23:22:19 -0500 (Sat, 20 Nov 2021)
nebbiolo1Linux (Ubuntu 20.04.4 LTS) / x86_64  OK    OK    OK  UNNEEDED, same version is already published
riesling1Windows Server 2019 Standard / x64  OK    OK    OK    OK  
palomino3Windows Server 2022 Datacenter / x64  OK    OK    OK    OK  NO, package depends on 'IRanges' which is not available
merida1macOS 10.14.6 Mojave / x86_64  OK    OK    OK    OK  UNNEEDED, same version is already published

Summary

Package: chromVAR
Version: 1.17.1
Command: rm -rf chromVAR.buildbin-libdir && mkdir chromVAR.buildbin-libdir && D:\biocbuild\bbs-3.15-bioc\R\bin\R.exe CMD INSTALL --build --library=chromVAR.buildbin-libdir chromVAR_1.17.1.tar.gz
StartedAt: 2022-01-23 20:47:39 -0500 (Sun, 23 Jan 2022)
EndedAt: 2022-01-23 20:49:08 -0500 (Sun, 23 Jan 2022)
EllapsedTime: 89.5 seconds
RetCode: 0
Status:   OK  
PackageFile: chromVAR_1.17.1.zip
PackageFileSize: 1.776 MiB

Command output

##############################################################################
##############################################################################
###
### Running command:
###
###   rm -rf chromVAR.buildbin-libdir && mkdir chromVAR.buildbin-libdir && D:\biocbuild\bbs-3.15-bioc\R\bin\R.exe CMD INSTALL --build --library=chromVAR.buildbin-libdir chromVAR_1.17.1.tar.gz
###
##############################################################################
##############################################################################


* installing *source* package 'chromVAR' ...
** using staged installation
** libs
"C:/rtools40/mingw64/bin/"g++  -std=gnu++11 -I"D:/biocbuild/bbs-3.15-bioc/R/include" -DNDEBUG  -I'D:/biocbuild/bbs-3.15-bioc/R/library/Rcpp/include' -I'D:/biocbuild/bbs-3.15-bioc/R/library/RcppArmadillo/include'   -I"C:/extsoft/include"     -O2 -Wall  -mfpmath=sse -msse2 -mstackrealign -fno-reorder-blocks-and-partition  -c RcppExports.cpp -o RcppExports.o
"C:/rtools40/mingw64/bin/"g++  -std=gnu++11 -I"D:/biocbuild/bbs-3.15-bioc/R/include" -DNDEBUG  -I'D:/biocbuild/bbs-3.15-bioc/R/library/Rcpp/include' -I'D:/biocbuild/bbs-3.15-bioc/R/library/RcppArmadillo/include'   -I"C:/extsoft/include"     -O2 -Wall  -mfpmath=sse -msse2 -mstackrealign -fno-reorder-blocks-and-partition  -c pwm_similarity.cpp -o pwm_similarity.o
"C:/rtools40/mingw64/bin/"g++  -std=gnu++11 -I"D:/biocbuild/bbs-3.15-bioc/R/include" -DNDEBUG  -I'D:/biocbuild/bbs-3.15-bioc/R/library/Rcpp/include' -I'D:/biocbuild/bbs-3.15-bioc/R/library/RcppArmadillo/include'   -I"C:/extsoft/include"     -O2 -Wall  -mfpmath=sse -msse2 -mstackrealign -fno-reorder-blocks-and-partition  -c utils.cpp -o utils.o
utils.cpp: In function 'Rcpp::NumericVector row_sds(arma::mat&, bool)':
utils.cpp:12:21: warning: comparison of integer expressions of different signedness: 'int' and 'const uword' {aka 'const unsigned int'} [-Wsign-compare]
     for( int j=0; j < X.n_rows; j++ ) {
                   ~~^~~~~~~~~~
C:/rtools40/mingw64/bin/g++ -shared -s -static-libgcc -o chromVAR.dll tmp.def RcppExports.o pwm_similarity.o utils.o -LD:/biocbuild/bbs-3.15-bioc/R/bin/x64 -lRlapack -LD:/biocbuild/bbs-3.15-bioc/R/bin/x64 -lRblas -lgfortran -lm -lquadmath -LC:/extsoft/lib/x64 -LC:/extsoft/lib -LD:/biocbuild/bbs-3.15-bioc/R/bin/x64 -lR
installing to D:/biocbuild/bbs-3.15-bioc/meat/chromVAR.buildbin-libdir/00LOCK-chromVAR/00new/chromVAR/libs/x64
** R
** data
*** moving datasets to lazyload DB
** inst
** byte-compile and prepare package for lazy loading
** help
*** installing help indices
  converting help for package 'chromVAR'
    finding HTML links ... done
    addGCBias                               html  
    annotationMatches                       html  
    assembleKmers                           html  
    cbind-chromVARDeviations-method         html  
    chromVAR                                html  
    chromVARDeviations-class                html  
    chromVAR_theme                          html  
    computeDeviations                       html  
    computeExpectations                     html  
    computeVariability                      html  
    counts                                  html  
    deviationScores                         html  
    deviations                              html  
    deviationsCovariability                 html  
    deviationsTsne                          html  
    differentialDeviations                  html  
    differentialVariability                 html  
    example_counts                          html  
    filterPeaks                             html  
    filterSamples                           html  
    filterSamplesPlot                       html  
    getAnnotationCorrelation                html  
    getAnnotationSynergy                    html  
    getAnnotations                          html  
    getBackgroundPeaks                      html  
    getCisGroups                            html  
    getCounts                               html  
    getFragmentsPerPeak                     html  
    getFragmentsPerSample                   html  
    getJasparMotifs                         html  
    getPeaks                                html  
    getPermutedData                         html  
    getSampleCorrelation                    html  
    getSampleDepths                         html  
    getSampleDistance                       html  
    getTotalFragments                       html  
    makeBiasBins                            html  
    makePermutedSets                        html  
    matchKmers                              html  
    mini_counts                             html  
    mini_dev                                html  
    mini_ix                                 html  
    plotDeviationsTsne                      html  
    plotKmerMismatch                        html  
    plotVariability                         html  
    pwmDistance                             html  
    rbind-chromVARDeviations-method         html  
    readNarrowpeaks                         html  
** building package indices
** installing vignettes
** testing if installed package can be loaded from temporary location
** testing if installed package can be loaded from final location
** testing if installed package keeps a record of temporary installation path
* MD5 sums
packaged installation of 'chromVAR' as chromVAR_1.17.1.zip
* DONE (chromVAR)