Index of /checkResults/devel/bioc-LATEST/chromVAR/raw-results/merida1

[ICO]NameLast modifiedSizeDescription

[DIR]Parent Directory  -  
[   ]install-summary.dcf27-May-2024 00:35 272  
[TXT]install-out.txt27-May-2024 00:35 3.0K 
[   ]checksrc-summary.dcf27-May-2024 00:35 448  
[TXT]checksrc-out.txt27-May-2024 00:35 4.7K 
[   ]buildsrc-summary.dcf27-May-2024 00:35 429  
[TXT]buildsrc-out.txt27-May-2024 00:35 1.2K 
[   ]buildbin-summary.dcf27-May-2024 00:35 537  
[TXT]buildbin-out.txt27-May-2024 00:35 6.5K