Index of /checkResults/devel/bioc-LATEST/chromVAR/raw-results/kunpeng2

[ICO]NameLast modifiedSizeDescription

[DIR]Parent Directory  -  
[TXT]buildsrc-out.txt29-Mar-2024 00:40 1.2K 
[   ]buildsrc-summary.dcf29-Mar-2024 00:40 430  
[TXT]checksrc-out.txt29-Mar-2024 00:40 4.7K 
[   ]checksrc-summary.dcf29-Mar-2024 00:40 451  
[TXT]install-out.txt29-Mar-2024 00:40 2.7K 
[   ]install-summary.dcf29-Mar-2024 00:40 271