![]() | Name | Last modified | Size | Description |
---|---|---|---|---|
![]() | Parent Directory | - | ||
![]() | buildsrc-out.txt | 29-Sep-2023 00:36 | 844 | |
![]() | buildsrc-summary.dcf | 29-Sep-2023 00:36 | 423 | |
![]() | checksrc-out.txt | 29-Sep-2023 00:36 | 5.5K | |
![]() | checksrc-summary.dcf | 29-Sep-2023 00:36 | 427 | |
![]() | install-out.txt | 29-Sep-2023 00:36 | 15K | |
![]() | install-summary.dcf | 29-Sep-2023 00:36 | 263 | |