Name | Last modified | Size | Description | |
---|---|---|---|---|
Parent Directory | - | |||
buildbin-out.txt | 02-May-2024 00:39 | 20K | ||
buildbin-summary.dcf | 02-May-2024 00:39 | 543 | ||
buildsrc-out.txt | 02-May-2024 00:39 | 854 | ||
buildsrc-summary.dcf | 02-May-2024 00:39 | 434 | ||
checksrc-out.txt | 02-May-2024 00:39 | 5.6K | ||
checksrc-summary.dcf | 02-May-2024 00:39 | 458 | ||
install-out.txt | 02-May-2024 00:39 | 17K | ||
install-summary.dcf | 02-May-2024 00:39 | 274 | ||