![]() | Name | Last modified | Size | Description |
---|---|---|---|---|
![]() | Parent Directory | - | ||
![]() | install-out.txt | 03-Dec-2023 01:38 | 14K | |
![]() | install-summary.dcf | 03-Dec-2023 01:38 | 272 | |
![]() | buildsrc-out.txt | 03-Dec-2023 01:38 | 853 | |
![]() | buildsrc-summary.dcf | 03-Dec-2023 01:38 | 432 | |
![]() | checksrc-out.txt | 03-Dec-2023 01:38 | 5.5K | |
![]() | checksrc-summary.dcf | 03-Dec-2023 01:38 | 460 | |