Index of /checkResults/devel/bioc-LATEST/chipseq/raw-results/palomino3

[ICO]NameLast modifiedSizeDescription

[DIR]Parent Directory  -  
[TXT]buildbin-out.txt29-Mar-2024 00:37 1.6K 
[   ]buildbin-summary.dcf29-Mar-2024 00:37 515  
[TXT]buildsrc-out.txt29-Mar-2024 00:37 1.2K 
[   ]buildsrc-summary.dcf29-Mar-2024 00:37 453  
[TXT]checksrc-out.txt29-Mar-2024 00:37 7.1K 
[   ]checksrc-summary.dcf29-Mar-2024 00:37 453  
[TXT]install-out.txt29-Mar-2024 00:37 1.5K 
[   ]install-summary.dcf29-Mar-2024 00:37 268